BEGIN:VCALENDAR
VERSION:2.0
PRODID:-//ChamberMaster//Event Calendar 2.0//EN
METHOD:PUBLISH
X-PUBLISHED-TTL:P3D
REFRESH-INTERVAL:P3D
CALSCALE:GREGORIAN
BEGIN:VEVENT
DTSTART:20240821T120000Z
DTEND:20240821T160000Z
X-MICROSOFT-CDO-ALLDAYEVENT:FALSE
SUMMARY:Farmers' Market at Sea Colony
DESCRIPTION:The Farmers' Market at Sea Colony is back for the summer season!  On Wednesdays from 8:00AM - 12:00PM\, June 5th - August 28th\, the market will be open on Route 1 at the Sea Colony Marketplace in Bethany Beach.
X-ALT-DESC;FMTTYPE=text/html:The Farmers&#39\; Market at Sea Colony is back for the summer season!&nbsp\; On Wednesdays from 8:00AM - 12:00PM\, June 5th - August 28th\, the market will be open on Route 1 at the Sea Colony Marketplace in Bethany Beach.&nbsp\;
LOCATION:Farmers' Market at Sea Colony 33546 Market Pl. Bethany Beach\, DE 19930
UID:e.2126.30241
SEQUENCE:3
DTSTAMP:20260420T163919Z
URL:https://business.bethany-fenwick.org/events/details/sea-colony-farmers-market-08-21-2024-30241
END:VEVENT

END:VCALENDAR
