BEGIN:VCALENDAR
VERSION:2.0
PRODID:-//ChamberMaster//Event Calendar 2.0//EN
METHOD:PUBLISH
X-PUBLISHED-TTL:P3D
REFRESH-INTERVAL:P3D
CALSCALE:GREGORIAN
BEGIN:VEVENT
DTSTART:20230923T140000Z
DTEND:20230923T190000Z
X-MICROSOFT-CDO-ALLDAYEVENT:FALSE
SUMMARY:Sea Glass Reimagined – A Workshop with the C-Glass Sisters
DESCRIPTION:*Please note that we're offering two workshop sessions   10am and 1pm   each class is 2hrs*\n\n\n\n\nLove Sea Glass? This is your opportunity to create your own framed Sea Glass picture. You'll be using Sea Glass handpicked by the C-Glass Sisters from the Eastern Shore coastline. There will be several designs to choose from.\n\nAll materials will be provided along with step by step instructions. Everyone takes home their own unique\, framed masterpiece.\n\nClick here to buy tickets for the 10am class!\n\nClick here to buy tickets for the 1pm class!
X-ALT-DESC;FMTTYPE=text/html:<div style="margin-left:auto\; margin-right:auto">\n<div style="margin-left:auto\; margin-right:auto">\n<div>*Please note that we&rsquo\;re offering two workshop sessions &ndash\; 10am and 1pm &ndash\; each class is 2hrs*</div>\n</div>\n</div>\n\n<div>\n<h5>Love Sea Glass? This is your opportunity to create your own framed Sea Glass picture. You&rsquo\;ll be using Sea Glass handpicked by the C-Glass Sisters from the Eastern Shore coastline. There will be several designs to choose from.</h5>\n\n<h5>All materials will be provided along with step by step instructions. Everyone takes home their own unique\, framed masterpiece.</h5>\n\n<h5><strong><span style="color:rgb(78\, 78\, 0)"><a href="https://www.eventbrite.com/e/690193727017?aff=oddtdtcreator" rel="noopener" style="box-sizing: border-box\; background-color: transparent\; border-bottom: 1px solid currentcolor\; color: rgb(78\, 78\, 0)\; text-decoration-line: none\;" target="_blank">Click here to buy tickets for the 10am class!</a></span></strong></h5>\n\n<h5><a href="https://www.eventbrite.com/e/sea-glass-reimagined-a-workshop-with-the-c-glass-sisters-1pm-tickets-690195813257?aff=oddtdtcreator" rel="noopener" style="box-sizing: border-box\; background-color: transparent\; border-bottom: 1px solid currentcolor\; text-decoration-line: none\; color: rgb(28\, 30\, 31) !important\;" target="_blank"><strong><span style="color:rgb(78\, 0\, 39)">Click here to buy tickets for the 1pm class!</span></strong></a></h5>\n</div>\n
LOCATION:Inland Bays Garden Center 38320 Muddy Neck Rd\, Frankford\, DE\, 19945
UID:e.2126.26510
SEQUENCE:3
DTSTAMP:20260420T213137Z
URL:https://business.bethany-fenwick.org/events/details/sea-glass-reimagined-a-workshop-with-the-c-glass-sisters-26510
END:VEVENT

END:VCALENDAR
