BEGIN:VCALENDAR
VERSION:2.0
PRODID:-//ChamberMaster//Event Calendar 2.0//EN
METHOD:PUBLISH
X-PUBLISHED-TTL:P3D
REFRESH-INTERVAL:P3D
CALSCALE:GREGORIAN
BEGIN:VEVENT
DTSTART:20230930T200000Z
DTEND:20231001T003000Z
X-MICROSOFT-CDO-ALLDAYEVENT:FALSE
SUMMARY:Sean Matthew Whiteford and The House Party Band at Bethany Club Tennis
DESCRIPTION:Party all night to your favorite jams of the 70s/80s/90s! Bethany Club Tennis has hosted multiple bands over three years and Sean Whiteford and the House Party Band will be joining us in 2023! We have raised over $100\,000 for two local veteran organizations: Veteran's Watchmaker Initiative and Rescue 22 Foundation\, both of which are based locally in Delaware. Proceeds are going directly to these organizations and we are proud to support this event for a third year to help these veteran based organizations. Join us to see Sean Whiteford and the House Party Band perform\, in addition to Steven Maglio perform Sinatra Under the Stars on 9/24/2023. Food onsite with our local vendors. Please plan to carpool if possible given the limited parking. All proceeds are going to benefit both of these organizations.\n\nSean Matthew Whiteford has been a prominent performer\, producer and international vocal coach\, based out of the Hudson Valley for over 15 years. Sean is a featured vocalist with the award winning SUPER 400 for their acclaimed Led Zeppelin album shows\, as well as NYC's powerhouse rock bands\, PARTY ROCK & JESSIE'S GIRL\, and with VIRTUAL JOURNEY BAND on YouTube\, where his performances have been praised by several members of JOURNEY.\n\n\n\nTickets range from $35-$100\n\n \n\n\nSales end on Sep 22\, 2023\n\n\n\n\nProceeds benefit local veteran organizations: Veteran's Watchmaker Initiative and Rescue 22 Foundation.\n\n\n\nFood trucks will be onsite. Tickets must be purchased in advance for $10 plus processing.
X-ALT-DESC;FMTTYPE=text/html:<p style="margin: 0px\; padding: 10px 0px 0px\; box-sizing: border-box\; color: rgb(111\, 114\, 135)\; font-size: 16px\; line-height: 1.5rem\; font-family: &quot\;Neue Plak&quot\;\, -apple-system\, BlinkMacSystemFont\, Roboto\, &quot\;Helvetica Neue&quot\;\, Helvetica\, Tahoma\, Arial\, sans-serif\;">Party all night to your favorite jams of the 70s/80s/90s! Bethany Club Tennis has hosted multiple bands over three years and Sean Whiteford and the House Party Band will be joining us in 2023! We have raised over $100\,000 for two local veteran organizations: Veteran&#39\;s Watchmaker Initiative and Rescue 22 Foundation\, both of which are based locally in Delaware. Proceeds are going directly to these organizations and we are proud to support this event for a third year to help these veteran based organizations. Join us to see Sean Whiteford and the House Party Band perform\, in addition to Steven Maglio perform Sinatra Under the Stars on 9/24/2023. Food onsite with our local vendors. Please plan to carpool if possible given the limited parking. All proceeds are going to benefit both of these organizations.</p>\n\n<p style="margin: 0px\; padding: 10px 0px 0px\; box-sizing: border-box\; color: rgb(111\, 114\, 135)\; font-size: 16px\; line-height: 1.5rem\; font-family: &quot\;Neue Plak&quot\;\, -apple-system\, BlinkMacSystemFont\, Roboto\, &quot\;Helvetica Neue&quot\;\, Helvetica\, Tahoma\, Arial\, sans-serif\;">Sean Matthew Whiteford has been a prominent performer\, producer and international vocal coach\, based out of the Hudson Valley for over 15 years. Sean is a featured vocalist with the award winning SUPER 400 for their acclaimed Led Zeppelin album shows\, as well as NYC&#39\;s powerhouse rock bands\, PARTY ROCK &amp\; JESSIE&#39\;S GIRL\, and with VIRTUAL JOURNEY BAND on YouTube\, where his performances have been praised by several members of JOURNEY.<br />\n<br />\nTickets range from $35-$100<br />\n&nbsp\;</p>\n\n<div class="eds-l-mar-bot-2" style="margin: 0px 0px 8px\; padding: 0px\; color: rgb(111\, 114\, 135)\; font-family: &quot\;Neue Plak&quot\;\, -apple-system\, BlinkMacSystemFont\, Roboto\, &quot\;Helvetica Neue&quot\;\, Helvetica\, Tahoma\, Arial\, sans-serif\; font-size: 14px\;">\n<p data-spec="tiered-ticket-onsale-status-description" style="margin: 0px\; padding: 0px\;"><span style="font-size:14px\;"><strong><span class="tiered-ticket-onsale-status__date">Sales end on Sep 22\, 2023</span></strong></span></p>\n</div>\n\n<div class="ticket-description eds-text-color--grey-600" data-testid="ticket-description" style="margin: 0px\; padding: 0px\; font-size: 14px\; color: rgb(111\, 114\, 135)\; font-family: &quot\;Neue Plak&quot\;\, -apple-system\, BlinkMacSystemFont\, Roboto\, &quot\;Helvetica Neue&quot\;\, Helvetica\, Tahoma\, Arial\, sans-serif\;">\n<div class="eds-read-more" style="margin: 0px\; padding: 0px\;">\n<div class="eds-read-more__content" data-testid="eds-read-more" style="margin: 0px\; padding: 0px\; overflow: hidden\; line-height: 1.5rem\; white-space-collapse: preserve\;">Proceeds benefit local veteran organizations: Veteran&#39\;s Watchmaker Initiative and Rescue 22 Foundation.<br />\n<br />\n<span style="color: rgb(111\, 114\, 135)\; font-family: &quot\;Neue Plak&quot\;\, -apple-system\, BlinkMacSystemFont\, Roboto\, &quot\;Helvetica Neue&quot\;\, Helvetica\, Tahoma\, Arial\, sans-serif\; font-size: 14px\; white-space-collapse: preserve\;">Food trucks will be onsite. Tickets must be purchased in advance for $10 plus processing.</span></div>\n</div>\n</div>\n
LOCATION:Bethany Club Tennis 30078 Cedar Neck Road Ocean View\, DE 19970
UID:e.2126.26899
SEQUENCE:3
DTSTAMP:20260420T213453Z
URL:https://business.bethany-fenwick.org/events/details/sean-matthew-whiteford-and-the-house-party-band-at-bethany-club-tennis-26899
END:VEVENT

END:VCALENDAR
