BEGIN:VCALENDAR
VERSION:2.0
PRODID:-//ChamberMaster//Event Calendar 2.0//EN
METHOD:PUBLISH
X-PUBLISHED-TTL:P3D
REFRESH-INTERVAL:P3D
CALSCALE:GREGORIAN
BEGIN:VEVENT
DTSTART:20240815T233000Z
DTEND:20240816T010000Z
X-MICROSOFT-CDO-ALLDAYEVENT:FALSE
SUMMARY:Seaside Concert Series at Bethany Bandstand - US Navy Sea Chanters
DESCRIPTION:The Navy Band Sea Chanters are the United States Navy's official chorus. The ensemble performs a variety of music including traditional choral music\, sea chanteys\, patriotic fare\, opera\, Broadway and contemporary music. The Sea Chanters regularly perform for the public in the Washington\, D.C.\, area and throughout the United States while on national tours. At home in Washington\, they perform for the president\, vice president and numerous congressional\, military and foreign dignitaries. In 1956\, Lt. Harold Fultz\, then the band's assistant leader\, organized a vocal group from the Navy School of Music to sing chanteys and patriotic songs for the State of the Nation dinner. Recognizing the ensemble's immediate success\, Adm. Arleigh Burke\, then Chief of Naval Operations\, transferred the group to the Navy Band\, named them the Sea Chanters and tasked this all-male chorus with perpetuating the songs of the sea. In 1980\, the group added women to its ranks and expanded its repertoire to include everything from Brahms to Broadway.
X-ALT-DESC;FMTTYPE=text/html:The Navy Band Sea Chanters are the United States Navy&rsquo\;s official chorus. The ensemble performs a variety of music including traditional choral music\, sea chanteys\, patriotic fare\, opera\, Broadway and contemporary music. The Sea Chanters regularly perform for the public in the Washington\, D.C.\, area and throughout the United States while on national tours. At home in Washington\, they perform for the president\, vice president and numerous congressional\, military and foreign dignitaries. In 1956\, Lt. Harold Fultz\, then the band&rsquo\;s assistant leader\, organized a vocal group from the Navy School of Music to sing chanteys and patriotic songs for the State of the Nation dinner. Recognizing the ensemble&rsquo\;s immediate success\, Adm. Arleigh Burke\, then Chief of Naval Operations\, transferred the group to the Navy Band\, named them the Sea Chanters and tasked this all-male chorus with perpetuating the songs of the sea. In 1980\, the group added women to its ranks and expanded its repertoire to include everything from Brahms to Broadway.&nbsp\;
LOCATION:Bethany Beach Bandstand Boardwalk Bethany Beach\, DE 19930
UID:e.2126.30429
SEQUENCE:3
DTSTAMP:20260420T163957Z
URL:https://business.bethany-fenwick.org/events/details/seaside-concert-series-at-bethany-bandstand-us-navy-sea-chanters-30429
END:VEVENT

END:VCALENDAR
