BEGIN:VCALENDAR
VERSION:2.0
PRODID:-//ChamberMaster//Event Calendar 2.0//EN
METHOD:PUBLISH
X-PUBLISHED-TTL:P3D
REFRESH-INTERVAL:P3D
CALSCALE:GREGORIAN
BEGIN:VEVENT
DTSTART:20240829T233000Z
DTEND:20240830T010000Z
X-MICROSOFT-CDO-ALLDAYEVENT:FALSE
SUMMARY:Seaside Concert Series at Bethany Bandstand - Van Halen Nation
DESCRIPTION:Van Halen Nation (VHN) is the premier 80s Van Halen tribute to the David Lee Roth era of VH. Based in South Jersey\, VHN has been rocking audiences and growing a loyal fan base for the past ten years. Comprised of four of the tri state areas top musicians VHN is both visually and sonically the closest tribute to the classic Van Halen. Each VHN performance is packed full of signature David Lee Roth acrobatics/screams to Eddie Van Halens ground breaking guitar playing to Michael Anthony and Alex Van Halens thunderous rhythm section. Van Halen Nation will transport your audience back in time when big hair\, Aquanet and MTV were a way of life.
X-ALT-DESC;FMTTYPE=text/html:<strong>Van Halen Nation (VHN)</strong> is the premier 80s Van Halen tribute to the David Lee Roth era of VH. Based in South Jersey\, VHN has been rocking audiences and growing a loyal fan base for the past ten years. Comprised of four of the tri state areas top musicians VHN is both visually and sonically the closest tribute to the classic Van Halen. Each VHN performance is packed full of signature David Lee Roth acrobatics/screams to Eddie Van Halens ground breaking guitar playing to Michael Anthony and Alex Van Halens thunderous rhythm section. Van Halen Nation will transport your audience back in time when big hair\, Aquanet and MTV were a way of life.
LOCATION:Bethany Beach Bandstand Boardwalk Bethany Beach\, DE 19930
UID:e.2126.30431
SEQUENCE:3
DTSTAMP:20260420T163854Z
URL:https://business.bethany-fenwick.org/events/details/seaside-concert-series-at-bethany-bandstand-van-halen-nation-30431
END:VEVENT

END:VCALENDAR
