BEGIN:VCALENDAR
VERSION:2.0
PRODID:-//ChamberMaster//Event Calendar 2.0//EN
METHOD:PUBLISH
X-PUBLISHED-TTL:P3D
REFRESH-INTERVAL:P3D
CALSCALE:GREGORIAN
BEGIN:VEVENT
DTSTART:20251004T223000Z
DTEND:20251005T000000Z
X-MICROSOFT-CDO-ALLDAYEVENT:FALSE
SUMMARY:Seaside Concert Series - Mathew Street
DESCRIPTION:Mathew Street is a Classic Rock Band based on the Delmarva Peninsula. playing all your favorites from Clapton and Stevie Ray to Bad Company and The Rolling Stones.
X-ALT-DESC;FMTTYPE=text/html:<span style="background-color:rgba(255\, 255\, 255\, 0.95)\; color:rgb(68\, 68\, 68)\; font-family:arial\; font-size:14.4px">Mathew Street is a Classic Rock Band based on the Delmarva Peninsula. playing all your favorites from Clapton and Stevie Ray to Bad Company and The Rolling Stones.&nbsp\;&nbsp\;</span>
LOCATION:Bethany Beach Bandstand
UID:e.2126.40660
SEQUENCE:3
DTSTAMP:20260422T051023Z
URL:https://business.bethany-fenwick.org/events/details/seaside-concert-series-mathew-street-40660
END:VEVENT

END:VCALENDAR
