BEGIN:VCALENDAR
VERSION:2.0
PRODID:-//ChamberMaster//Event Calendar 2.0//EN
METHOD:PUBLISH
X-PUBLISHED-TTL:P3D
REFRESH-INTERVAL:P3D
CALSCALE:GREGORIAN
BEGIN:VEVENT
DTSTART:20230927T203000Z
DTEND:20230927T223000Z
X-MICROSOFT-CDO-ALLDAYEVENT:FALSE
SUMMARY:September 2023 Business After Hours at Mio Fratello's Loft on 54
DESCRIPTION:Join the Bethany-Fenwick Area Chamber of Commerce on Wednesday\, September 27th\, at Mio Fratello's Loft on 54 for the September 2023 Business After Hours event!  The Chamber Business After Hours is a fantastic way to promote your business through networking with fellow Chamber members. Don't forget to bring your business cards with you and for a little extra exposure bring a door prize too. \n\n\n\nMio Fratello will be providing food for the event!\n\n\n\nBeebe Healthcare will have a featured spotlight table\, as well as The Cancer Support Community of Delaware.  \n\n\n\nAs a courtesy to our host\, RSVP is highly encouraged.\n\n\n\nInterested in hosting a networking event\, or learning how you can become a member spotlight at future Business After Hours? \n\nContact membership@thequietresorts.com or 302-539-2100.
X-ALT-DESC;FMTTYPE=text/html:<span style="font-family: arial\, sans-serif\; font-size: 14px\;">Join the Bethany-Fenwick Area Chamber of Commerce on Wednesday\, September 27th\, at Mio Fratello&#39\;s Loft on 54 for the September 2023 Business After Hours event!&nbsp\;&nbsp\;</span><span style="font-family: arial\, sans-serif\; font-size: 14px\;">The Chamber Business After Hours is a fantastic way to promote your business through networking with fellow Chamber members. Don&rsquo\;t forget to bring your business cards with you and for a little extra exposure bring a door prize too.&nbsp\;</span><br style="font-family: arial\, sans-serif\; font-size: 14px\;" />\n<br style="font-family: arial\, sans-serif\; font-size: 14px\;" />\n<span style="font-family: arial\, sans-serif\; font-size: 14px\;">Mio Fratello will be providing food for the event!<br />\n<br />\nBeebe Healthcare will have a featured spotlight table\, as well as The Cancer Support Community of Delaware.&nbsp\;&nbsp\;</span><br />\n<br />\n<span style="font-family: arial\, sans-serif\; font-size: 10.5pt\;">As a courtesy to our host\, RSVP is highly encouraged.</span><br />\n<br />\n<strong><span style="font-family: arial\, sans-serif\;"><span style="font-size: 10.5pt\;">Interested in hosting a networking event\, or learning how you can become a member spotlight at future Business After Hours?&nbsp\;</span></span></strong><br />\n<span style="font-family: arial\, sans-serif\;"><span style="font-size: 10.5pt\;">Contact membership@thequietresorts.com or 302-539-2100.</span></span>
LOCATION:Mio Fratello - The Loft on 54 38016 Fenwick Shoals Blvd. Selbyville\, DE 19975
UID:e.2126.26606
SEQUENCE:3
DTSTAMP:20260420T225512Z
URL:https://business.bethany-fenwick.org/events/details/september-2023-business-after-hours-at-mio-fratello-s-loft-on-54-26606
END:VEVENT

END:VCALENDAR
