BEGIN:VCALENDAR
VERSION:2.0
PRODID:-//ChamberMaster//Event Calendar 2.0//EN
METHOD:PUBLISH
X-PUBLISHED-TTL:P3D
REFRESH-INTERVAL:P3D
CALSCALE:GREGORIAN
BEGIN:VEVENT
DTSTART:20230915T230000Z
DTEND:20230916T000000Z
X-MICROSOFT-CDO-ALLDAYEVENT:FALSE
SUMMARY:Shana Farr Presents: IN THE STILL OF THE NIGHT The Words & Music of Noel Coward and Cole Porter\, A Theatrical Journey
DESCRIPTION:The incomparable duo Shana Farr and Jon Weber make their way back to the Dickens Parlour Theatre to pay homage to the great Noel Coward and Cole Porter in the award-winning show IN THE STILL OF THE NIGHT: Words & Music of Noel Coward and Cole Porter. Using only the words of these two colossal songwriters\, Shana Farr takes the audience on a journey that examines the contours of one woman's love life   a new and unique approach to telling the affairs of the heart. This is a successful show\, cleverly assembled\, heartfully rendered and beautifully acted by its creator and performer\, Shana Farr.
X-ALT-DESC;FMTTYPE=text/html:<span style="background-color:rgb(255\, 255\, 255)\; font-family:tahoma\,geneva\,sans-serif\; font-size:14px">The incomparable duo Shana Farr and Jon Weber make their way back to the Dickens Parlour Theatre to pay homage to the great Noel Coward and Cole Porter in the award-winning show&nbsp\;</span><span style="background-color:rgb(255\, 255\, 255)\; font-family:tahoma\,geneva\,sans-serif\; font-size:14px">IN THE STILL OF THE NIGHT</span><span style="background-color:rgb(255\, 255\, 255)\; font-family:tahoma\,geneva\,sans-serif\; font-size:14px">: Words &amp\; Music of Noel Coward and Cole Porter. Using only the words of these two colossal songwriters\, Shana Farr takes the audience on a journey that examines the contours of one woman&rsquo\;s love life &ndash\; a new and unique approach to telling the affairs of the heart. This is a successful show\, cleverly assembled\, heartfully rendered and beautifully acted by its creator and performer\, Shana Farr.</span>
LOCATION:Dickens Parlour Theatre 31810 Good Earth Lane Ocean View\, DE 19970
UID:e.2126.26608
SEQUENCE:3
DTSTAMP:20260420T213609Z
URL:https://business.bethany-fenwick.org/events/details/shana-farr-presents-in-the-still-of-the-night-the-words-music-of-noel-coward-and-cole-porter-a-theatrical-journey-26608
END:VEVENT

END:VCALENDAR
