BEGIN:VCALENDAR
VERSION:2.0
PRODID:-//ChamberMaster//Event Calendar 2.0//EN
METHOD:PUBLISH
X-PUBLISHED-TTL:P3D
REFRESH-INTERVAL:P3D
CALSCALE:GREGORIAN
BEGIN:VEVENT
DTSTART:20210804T213000Z
DTEND:20210804T233000Z
X-MICROSOFT-CDO-ALLDAYEVENT:FALSE
SUMMARY:Shining Light Awards
DESCRIPTION:The Shining Light Awards cocktail reception is honoring Delaware Department of Health and Social Services\, Division of Public Health.
X-ALT-DESC;FMTTYPE=text/html:The Shining Light Awards cocktail reception is honoring Delaware Department of Health and Social Services\, Division of Public Health.
LOCATION:The Waterfall Claymont\, DE
UID:e.2126.22661
SEQUENCE:3
DTSTAMP:20260424T162643Z
URL:https://business.bethany-fenwick.org/events/details/shining-light-awards-22661
END:VEVENT

END:VCALENDAR
