BEGIN:VCALENDAR
VERSION:2.0
PRODID:-//ChamberMaster//Event Calendar 2.0//EN
METHOD:PUBLISH
X-PUBLISHED-TTL:P3D
REFRESH-INTERVAL:P3D
CALSCALE:GREGORIAN
BEGIN:VEVENT
DTSTART:20250502T150000Z
DTEND:20250502T210000Z
X-MICROSOFT-CDO-ALLDAYEVENT:FALSE
SUMMARY:Sip & Shop at Rlynne Boutique
DESCRIPTION:Come sip and shop at Rlynne Boutique in Millville on the first Friday of the month from 11:00 AM - 5:00 PM!  Featuring a different special each month\, like 20% off storewide\, you can come back month after month to see new merchandise and take advantage of that day's deals.\n\n\n\nOpened in 2021\, Rlynne Boutique carries beautiful clothing\, jewelry\, purses\, bags\, and a selection of home decor and cooking accessories.  They are the perfect girls night out inside of a store!
X-ALT-DESC;FMTTYPE=text/html:Come sip and shop at Rlynne Boutique in Millville on the first Friday of the month from 11:00 AM - 5:00 PM!&nbsp\; Featuring a different special each month\, like 20% off storewide\, you can come back month after month to see new merchandise and take advantage of that day&#39\;s deals.<br />\n<br />\nOpened in 2021\, Rlynne Boutique carries beautiful clothing\, jewelry\, purses\, bags\, and a selection of home decor and cooking accessories.&nbsp\; They are the perfect girls night out inside of a store!
LOCATION:Rlynne Boutique 35849 Atlantic Ave.\, Unit 2 Millville\, DE 19967
UID:e.2126.31025
SEQUENCE:3
DTSTAMP:20260422T131914Z
URL:https://business.bethany-fenwick.org/events/details/sip-shop-at-rlynne-boutique-05-02-2025-31025
END:VEVENT

END:VCALENDAR
