BEGIN:VCALENDAR
VERSION:2.0
PRODID:-//ChamberMaster//Event Calendar 2.0//EN
METHOD:PUBLISH
X-PUBLISHED-TTL:P3D
REFRESH-INTERVAL:P3D
CALSCALE:GREGORIAN
BEGIN:VEVENT
DTSTART:20230928T130000Z
DTEND:20230928T150000Z
X-MICROSOFT-CDO-ALLDAYEVENT:FALSE
SUMMARY:Sitting with CEO's at Delaware State University
DESCRIPTION:Please join Delaware State University\, College of Business in partnership with the Community Navigator Program powered by the DSBDC.\n\n\nDESU will be hosting this in-person event Sitting with CEOs\, where attendees will hear from local industry leaders about entrepreneurship and business ownership.\n\n\n	Malcolm Coley\, CEO/Co-Founder of LocNationTM\n	Chris Balan\, Co-Founder of Zazen Beauty\n\nRegister here.
X-ALT-DESC;FMTTYPE=text/html:<div style="color: rgb(0\, 0\, 0)\; font-family: Arial\, sans-serif\; font-size: 16px\;"><em><strong>Please join Delaware State University\, College of Business in partnership with the Community Navigator Program powered by the DSBDC.</strong></em></div>\n\n<div class="cdworkshopHTMLinfo" style="padding-top: 1em\; padding-bottom: 1em\; color: rgb(0\, 0\, 0)\; font-family: Arial\, sans-serif\; font-size: 16px\;">\n<p>DESU will be hosting this in-person event&nbsp\;<em>Sitting with CEOs</em>\, where attendees will hear from local industry leaders about entrepreneurship and business ownership.</p>\n\n<ul>\n	<li>Malcolm Coley\, CEO/Co-Founder of LocNationTM</li>\n	<li>Chris Balan\, Co-Founder of Zazen Beauty</li>\n</ul>\nRegister <a href="https://portal.navigatede.org/workshop.aspx?ekey=7430026">here</a>.</div>\n
LOCATION:DESU College of Business Garage Maker Space - Innovation Cafe 1200 N DuPont Hwy Dover\, DE 19901
UID:e.2126.26943
SEQUENCE:3
DTSTAMP:20260420T211552Z
URL:https://business.bethany-fenwick.org/events/details/sitting-with-ceo-s-at-delaware-state-university-26943
END:VEVENT

END:VCALENDAR
