BEGIN:VCALENDAR
VERSION:2.0
PRODID:-//ChamberMaster//Event Calendar 2.0//EN
METHOD:PUBLISH
X-PUBLISHED-TTL:P3D
REFRESH-INTERVAL:P3D
CALSCALE:GREGORIAN
BEGIN:VEVENT
DTSTART:20250515T153000Z
DTEND:20250515T163000Z
X-MICROSOFT-CDO-ALLDAYEVENT:FALSE
SUMMARY:Small Business Day in Dover
DESCRIPTION:Join the conversation at Small Business Day in Dover on May 15th. You will have the opportunity to stay informed about legislative issues affecting you business and engage directly with the policymakers who can shape these policies.
X-ALT-DESC;FMTTYPE=text/html:Join the conversation at Small Business Day in Dover on May 15th. You will have the opportunity to stay informed about legislative issues affecting you business and engage directly with the policymakers who can shape these policies.
LOCATION:
UID:e.2126.38208
SEQUENCE:3
DTSTAMP:20260422T130849Z
URL:https://business.bethany-fenwick.org/events/details/small-business-day-in-dover-38208
END:VEVENT

END:VCALENDAR
