BEGIN:VCALENDAR
VERSION:2.0
PRODID:-//ChamberMaster//Event Calendar 2.0//EN
METHOD:PUBLISH
X-PUBLISHED-TTL:P3D
REFRESH-INTERVAL:P3D
CALSCALE:GREGORIAN
BEGIN:VEVENT
DTSTART:20260502T140000Z
DTEND:20260502T150000Z
X-MICROSOFT-CDO-ALLDAYEVENT:FALSE
SUMMARY:Sound Immersion in the Garden at the Delaware Botanic Gardens
DESCRIPTION:A beginner-friendly\, transformative sound bath experience at Delaware Botanic Gardens in Dagsboro. Crystal singing bowls and soothing vocal tones blend with the living landscape. Birds join the chorus\, breezes dance through the leaves\, and nature itself becomes part of the healing symphony. Feel stress melt away\, enter deep relaxation\, and reconnect with a profound sense of peace and presence. This unique outdoor sound immersion invites you to experience natural beauty as the ultimate art form and leave feeling lighter\, more grounded and fully alive.   \n\nJulie Fisher is the founder of Delaware-based Gifted Alchemy\, offering immersive sound baths\, personalized sound healing recordings\, and environment-attuned listening experiences. With a background in classical music and therapeutic modalities\, her work blends crystal singing bowls and voice to create soundscapes that gently shift perception\, heighten awareness\, and offer an opportunity to let go. Julie collaborates with communities\, libraries\, cultural institutions\, and wellness organizations to create experiences that invite peace\, presence\, and a deeper sense of ease.\n\nImportant Comfort Note:  A yoga mat alone is not enough cushioning for a Sound Immersion. Please bring comfortable padding\, perhaps a camping pad or similar   along with pillows and a blanket. \n\nCome prepared to fully relax.
X-ALT-DESC;FMTTYPE=text/html:<p><span style="font-size:16px\;"><span style="font-family:arial\;">A beginner-friendly\, transformative sound bath experience at Delaware Botanic Gardens in Dagsboro.&nbsp\;Crystal singing bowls and soothing vocal tones blend with the living landscape. Birds join the chorus\, breezes dance through the leaves\, and nature itself becomes part of the healing symphony. Feel stress melt away\, enter deep relaxation\, and reconnect with a profound sense of peace and presence. This unique outdoor sound immersion invites you to experience natural beauty as the ultimate art form and leave feeling lighter\, more grounded and fully alive. &nbsp\;&nbsp\;</span></span></p>\n\n<p><span style="font-size:16px\;"><span style="font-family:arial\;">Julie Fisher is the founder of Delaware-based&nbsp\;<a href="https://giftedalchemy.com/home" rel="nofollow" style="box-sizing: border-box\; color: rgb(0\, 0\, 0)\;">Gifted Alchemy</a>\, offering immersive sound baths\, personalized sound healing recordings\, and environment-attuned listening experiences. With a background in classical music and therapeutic modalities\, her work blends crystal singing bowls and voice to create soundscapes that gently shift perception\, heighten awareness\, and offer an opportunity to let go. Julie collaborates with communities\, libraries\, cultural institutions\, and wellness organizations to create experiences that invite peace\, presence\, and a deeper sense of ease.</span></span></p>\n\n<p><span style="font-size:16px\;"><span style="font-family:arial\;"><em>Important Comfort Note:</em>&nbsp\; A yoga mat alone is not enough cushioning for a Sound Immersion. Please bring comfortable padding\, perhaps a camping pad or similar &mdash\; along with pillows and a blanket.&nbsp\;</span></span></p>\n\n<p><span style="font-size:16px\;"><span style="font-family:arial\;">Come prepared to fully relax.</span></span></p>\n
LOCATION:
UID:e.2126.44064
SEQUENCE:3
DTSTAMP:20260425T110730Z
URL:https://business.bethany-fenwick.org/events/details/sound-immersion-in-the-garden-at-the-delaware-botanic-gardens-44064
END:VEVENT

END:VCALENDAR
