BEGIN:VCALENDAR
VERSION:2.0
PRODID:-//ChamberMaster//Event Calendar 2.0//EN
METHOD:PUBLISH
X-PUBLISHED-TTL:P3D
REFRESH-INTERVAL:P3D
CALSCALE:GREGORIAN
BEGIN:VEVENT
DTSTART:20260313T141500Z
DTEND:20260313T160000Z
X-MICROSOFT-CDO-ALLDAYEVENT:FALSE
SUMMARY:South Coastal Genealogy Group
DESCRIPTION:Join the next South Coastal Genealogy Group Meeting. This group is for genealogy enthusiasts and all skill levels are welcome. Learn genealogy resources\, tricks\, and methods from each other in a welcoming environment while meeting others and conversing about current projects. The meeting is setup as a discussion\, however\, select genealogy resources are also shown/demonstrated by meeting facilitator. Meetings will be held bi-monthly on select Fridays at 10:15 am (no meetings in Summer). \n\n\n\nNo registration is needed. We hope to see you there! Free\, ages 18+.\n\n\n\nMeeting Facilitator: Nancy N.
X-ALT-DESC;FMTTYPE=text/html:<span style="font-size:16px\;">Join the next South Coastal Genealogy Group Meeting. This group is for genealogy enthusiasts and all skill levels are welcome. Learn genealogy resources\, tricks\, and methods from each other in a welcoming environment while meeting others and conversing about current projects. The meeting is setup as a discussion\, however\, select genealogy resources are also shown/demonstrated by meeting facilitator. Meetings will be held bi-monthly on select Fridays at 10:15 am (no meetings in Summer).&nbsp\;<br />\n<br />\nNo registration is needed. We hope to see you there! Free\, ages 18+.<br />\n<br />\nMeeting Facilitator: Nancy N.</span>
LOCATION:
UID:e.2126.42321
SEQUENCE:3
DTSTAMP:20260421T095622Z
URL:https://business.bethany-fenwick.org/events/details/south-coastal-genealogy-group-42321
END:VEVENT

END:VCALENDAR
