BEGIN:VCALENDAR
VERSION:2.0
PRODID:-//ChamberMaster//Event Calendar 2.0//EN
METHOD:PUBLISH
X-PUBLISHED-TTL:P3D
REFRESH-INTERVAL:P3D
CALSCALE:GREGORIAN
BEGIN:VEVENT
DTSTART:20240826T170000Z
DTEND:20240826T190000Z
X-MICROSOFT-CDO-ALLDAYEVENT:FALSE
SUMMARY:South Coastal Village Volunteers Presentation at St. Martha's Episcopal Church
DESCRIPTION:Come to St. Martha's Episcopal Church on Monday\, August 26th from 1 - 3 pm for an informative presentation by South Coastal Village Volunteers. Come learn about the great work this organization is doing for our community and all services they have to offer for you or someone you care about. SCVV may be the answers to some of your prayers about how to stay and live independently in the comfort of your home.
X-ALT-DESC;FMTTYPE=text/html:Come to St. Martha&#39\;s Episcopal Church on Monday\, August 26th from 1 - 3 pm for an informative presentation by South Coastal Village Volunteers. Come learn about the great work this organization is doing for our community and all services they have to offer for you or someone you care about. SCVV may be the answers to some of your prayers about how to stay and live independently in the comfort of your home.&nbsp\;&nbsp\;
LOCATION:St. Martha's Episcopal Church 117 Maplewood Street Bethany Beach\, DE 19930
UID:e.2126.30889
SEQUENCE:3
DTSTAMP:20260420T164021Z
URL:https://business.bethany-fenwick.org/events/details/south-coastal-village-volunteers-presentation-at-st-martha-s-episcopal-church-30889
END:VEVENT

END:VCALENDAR
