BEGIN:VCALENDAR
VERSION:2.0
PRODID:-//ChamberMaster//Event Calendar 2.0//EN
METHOD:PUBLISH
X-PUBLISHED-TTL:P3D
REFRESH-INTERVAL:P3D
CALSCALE:GREGORIAN
BEGIN:VEVENT
DTSTART;VALUE=DATE:20250501
DTEND;VALUE=DATE:20250531
TRANSP:TRANSPARENT
X-MICROSOFT-CDO-ALLDAYEVENT:TRUE
SUMMARY:Sponsorship Opportunity: CSCDE 10th Annual Crush Out Cancer Weekend
DESCRIPTION:Cancer Support Community Delaware (CSCDE) is excited to announce the 10th Annual Crush Out Cancer Weekend - Saturday\, May 31st and Sunday\, June 1st\, 2025! \n\n\n\nWhat is Crush Out Cancer Weekend?\n\nCrush Out Cancer is a widely popular annual fundraiser that unites restaurants and individuals statewide on the first weekend of June to observe National Cancer Survivors Weekend. Drink and/or food specials are offered to raise critical funds for CSCDE programs in Sussex County to help us ensure that no one faces cancer alone! It does not have to be a crush if that is not what your establishment is known for!\n\n\n\nEvent sponsorships support CSCDE's critical work as a statewide non-profit organization\, providing support services for cancer patients\, caregivers\, and their families. We are a support system every step of the way during each individual's journey with cancer\, from diagnosis to treatment\, remission\, and beyond.  In 2024\, we served over 7\,600 Delawareans\, provided 17\,000 visits\, and provided over 3\,000 service hours. Programming at CSCDE has grown significantly\, especially over the last few years as we have implemented virtual and hybrid options for all programs and support groups. While this began during the pandemic\, giving participants the option to either come in-person or join virtually\, our hybrid option has proven to be beneficial for all communities in Delaware and will continue into the future. \n\n\n\nAside from becoming a 2025 Crush Out Cancer Partner\, sponsorship opportunities are available to help us make sure no one faces cancer alone. Check out the website\, CSCDE 2025 Crush Out Cancer Weekend\, to learn more!
X-ALT-DESC;FMTTYPE=text/html:Cancer Support Community Delaware (CSCDE) is excited to announce the&nbsp\;<strong>10th Annual Crush Out Cancer Weekend - Saturday\, May 31st and&nbsp\;Sunday\, June 1st\, 2025!&nbsp\;</strong><br />\n<br />\n<strong>What is Crush Out Cancer Weekend?</strong><br />\nCrush Out Cancer is a widely popular annual fundraiser that unites restaurants and individuals statewide on the first weekend of June to observe National Cancer Survivors Weekend. Drink and/or food specials are offered to raise critical funds for CSCDE programs in Sussex County to help us ensure that no one faces cancer alone! It does not have to be a crush if that is not what your establishment is known for!<br />\n<br />\nEvent sponsorships support CSCDE&#39\;s critical work as a statewide non-profit organization\, providing support services for cancer patients\, caregivers\, and their families. We are a support system every step of the way during each individual&#39\;s journey with cancer\, from diagnosis to treatment\, remission\, and beyond.&nbsp\; <strong>In 2024\, we served over 7\,600 Delawareans\, provided 17\,000 visits\, and provided over 3\,000 service hours.</strong> Programming at CSCDE has grown significantly\, especially over the last few years as we have implemented virtual and hybrid options for all programs and support groups. While this began during the pandemic\, giving participants the option to either come in-person or join virtually\, our hybrid option has proven to be beneficial for all communities in Delaware and will continue into the future.&nbsp\;<br />\n<br />\nAside from becoming a 2025 Crush Out Cancer Partner\, sponsorship opportunities are available to help us make sure no one faces cancer alone.&nbsp\;<strong>C</strong><strong>heck out the website\, <a href="https://cancersupportdelaware.org/event/crush-out-cancer-2025/?instance_id=64659">CSCDE 2025 Crush Out Cancer Weekend</a>\, to learn more!</strong>
LOCATION:Statewide at Participating Locations!
UID:e.2126.31940
SEQUENCE:3
DTSTAMP:20260422T132323Z
URL:https://business.bethany-fenwick.org/events/details/sponsorship-opportunity-cscde-10th-annual-crush-out-cancer-weekend-31940
END:VEVENT

END:VCALENDAR
