BEGIN:VCALENDAR
VERSION:2.0
PRODID:-//ChamberMaster//Event Calendar 2.0//EN
METHOD:PUBLISH
X-PUBLISHED-TTL:P3D
REFRESH-INTERVAL:P3D
CALSCALE:GREGORIAN
BEGIN:VEVENT
DTSTART:20230916T140000Z
DTEND:20230916T160000Z
X-MICROSOFT-CDO-ALLDAYEVENT:FALSE
SUMMARY:Spring Blossoms Start with Fall Garden Prep With Chantal Bouchard
DESCRIPTION:Learn several simple steps to get your garden ready for winter and at the same time spring. By pruning certain plants\, cleaning up debris\, planting species that need to be in the ground in the fall\, protecting plants from winter weather\, and prepping soil for the spring\, you can jump start the 2024 planting season. Plus\, by removing plants or debris with disease or pest problems\, you can ensure that your garden will remain healthy into the next season. A little garden cleanup now will make your workload in the spring a lot easier!\n\nChantal Bouchard graduated with a horticulture degree in 1999 and worked in landscape design\, maintenance\, and wholesale gardening for over 2 decades. "I love the hands-on work of gardening."\n\nClick here to get tickets!
X-ALT-DESC;FMTTYPE=text/html:<h5>Learn several simple steps to get your garden ready for winter and at the same time spring. By pruning certain plants\, cleaning up debris\, planting species that need to be in the ground in the fall\, protecting plants from winter weather\, and prepping soil for the spring\, you can jump start the 2024 planting season. Plus\, by removing plants or debris with disease or pest problems\, you can ensure that your garden will remain healthy into the next season. A little garden cleanup now will make your workload in the spring a lot easier!</h5>\n\n<h5>Chantal Bouchard graduated with a horticulture degree in 1999 and worked in landscape design\, maintenance\, and wholesale gardening for over 2 decades. &ldquo\;I love the hands-on work of gardening.&rdquo\;</h5>\n\n<h5><a href="https://www.eventbrite.com/e/690172222697?aff=oddtdtcreator" rel="noopener" style="box-sizing: border-box\; background-color: transparent\; border-bottom: 1px solid currentcolor\; text-decoration-line: none\; color: rgb(28\, 30\, 31) !important\;" target="_blank"><strong>Click here to get ticket</strong><strong>s!</strong></a></h5>\n
LOCATION:Inland Bays Garden Center 38320 Muddy Neck Rd\, Frankford\, DE\, 19945
UID:e.2126.26507
SEQUENCE:3
DTSTAMP:20260420T211612Z
URL:https://business.bethany-fenwick.org/events/details/spring-blossoms-start-with-fall-garden-prep-with-chantal-bouchard-26507
END:VEVENT

END:VCALENDAR
