BEGIN:VCALENDAR
VERSION:2.0
PRODID:-//ChamberMaster//Event Calendar 2.0//EN
METHOD:PUBLISH
X-PUBLISHED-TTL:P3D
REFRESH-INTERVAL:P3D
CALSCALE:GREGORIAN
BEGIN:VEVENT
DTSTART:20240831T130000Z
DTEND:20240831T170000Z
X-MICROSOFT-CDO-ALLDAYEVENT:FALSE
SUMMARY:St. Martha's Episcopal Church Book Sale
DESCRIPTION:Join St. Martha's Episcopal Church on Saturday\, August 31st from 9 am to 1 pm for their annual Labor Day Weekend Book Sale!  It's a great time to stock up on reads for those lovely fall beach days.  They have a wide variety of books to choose from so there is sure to be something for everyone.
X-ALT-DESC;FMTTYPE=text/html:Join St. Martha&#39\;s Episcopal Church on Saturday\, August 31st from 9 am to 1 pm for their annual Labor Day Weekend Book Sale!&nbsp\; It&#39\;s a great time to stock up on reads for those lovely fall beach days.&nbsp\; They have a wide variety of books to choose from so there is sure to be something for everyone.&nbsp\;&nbsp\;
LOCATION:St. Martha's Episcopal Church 117 Maplewood Street Bethany Beach\, DE 19930
UID:e.2126.30888
SEQUENCE:3
DTSTAMP:20260420T163817Z
URL:https://business.bethany-fenwick.org/events/details/st-martha-s-episcopal-church-book-sale-08-31-2024-30888
END:VEVENT

END:VCALENDAR
