BEGIN:VCALENDAR
VERSION:2.0
PRODID:-//ChamberMaster//Event Calendar 2.0//EN
METHOD:PUBLISH
X-PUBLISHED-TTL:P3D
REFRESH-INTERVAL:P3D
CALSCALE:GREGORIAN
BEGIN:VEVENT
DTSTART:20230913T130000Z
DTEND:20230913T140000Z
X-MICROSOFT-CDO-ALLDAYEVENT:FALSE
SUMMARY:State of DE Virtual Training - Responding to a Formal Solicitation & Contract Management
DESCRIPTION:During this virtual session we will identify key elements of a solicitation\, understanding the timeline\, proper submission\, and next steps. Once we wrap up the formal bid process we will break down contract management\; price adjustments\, late feeds\, contract changes\, extension negotiations.\n\n\n\nRegistration is free and open through EventBrite.
X-ALT-DESC;FMTTYPE=text/html:During this virtual session we will identify key elements of a solicitation\, understanding the timeline\, proper submission\, and next steps. Once we wrap up the formal bid process we will break down contract management\; price adjustments\, late feeds\, contract changes\, extension negotiations.<br />\n<br />\nRegistration is free and open through <a href="https://www.eventbrite.com/cc/vendor-training-1928149">EventBrite</a>.
LOCATION:Online
UID:e.2126.26654
SEQUENCE:3
DTSTAMP:20260420T211850Z
URL:https://business.bethany-fenwick.org/events/details/state-of-de-virtual-training-responding-to-a-formal-solicitation-contract-management-26654
END:VEVENT

END:VCALENDAR
