BEGIN:VCALENDAR
VERSION:2.0
PRODID:-//ChamberMaster//Event Calendar 2.0//EN
METHOD:PUBLISH
X-PUBLISHED-TTL:P3D
REFRESH-INTERVAL:P3D
CALSCALE:GREGORIAN
BEGIN:VEVENT
DTSTART:20230903T233000Z
DTEND:20230904T010000Z
X-MICROSOFT-CDO-ALLDAYEVENT:FALSE
SUMMARY:Still Surfin'
DESCRIPTION:Still Surfin' is a professional Beach Boys tribute. Just like the original Beach Boys\, they include the songs from other great '60s surf bands like Jan and Dean\, The Ventures\, Dick Dale\, and The Safaris and play all the great car songs too. \n\n\n\nA firework show will follow their performance.
X-ALT-DESC;FMTTYPE=text/html:Still Surfin&#39\; is a professional Beach Boys tribute. Just like the original Beach Boys\, they include the songs from other great &#39\;60s surf bands like Jan and Dean\, The Ventures\, Dick Dale\, and The Safaris and play all the great car songs too.&nbsp\;<br />\n<br />\nA firework show will follow their performance.
LOCATION:Bethany Beach Bandstand
UID:e.2126.26415
SEQUENCE:3
DTSTAMP:20260420T211629Z
URL:https://business.bethany-fenwick.org/events/details/still-surfin-09-03-2023-26415
END:VEVENT

END:VCALENDAR
