BEGIN:VCALENDAR
VERSION:2.0
PRODID:-//ChamberMaster//Event Calendar 2.0//EN
METHOD:PUBLISH
X-PUBLISHED-TTL:P3D
REFRESH-INTERVAL:P3D
CALSCALE:GREGORIAN
BEGIN:VEVENT
DTSTART:20260318T143000Z
DTEND:20260318T153000Z
X-MICROSOFT-CDO-ALLDAYEVENT:FALSE
SUMMARY:Story Time | Ages 5 & Under with the South Coastal Library
DESCRIPTION:Bring your little one to Story Time for songs\, stories\, and lots of fun! Perfect for kids 5 and under. \n\nRegistration is not required.
X-ALT-DESC;FMTTYPE=text/html:<p><span style="font-family:arial\,helvetica\,sans-serif">Bring your little one to Story Time for songs\, stories\, and lots of fun! Perfect for kids 5 and under.&nbsp\;</span></p>\n\n<p><span style="font-family:arial\,helvetica\,sans-serif">Registration is not required.</span></p>\n
LOCATION:South Coastal Library
UID:e.2126.42620
SEQUENCE:3
DTSTAMP:20260421T083248Z
URL:https://business.bethany-fenwick.org/events/details/story-time-ages-5-under-with-the-south-coastal-library-03-18-2026-42620
END:VEVENT

END:VCALENDAR
