BEGIN:VCALENDAR
VERSION:2.0
PRODID:-//ChamberMaster//Event Calendar 2.0//EN
METHOD:PUBLISH
X-PUBLISHED-TTL:P3D
REFRESH-INTERVAL:P3D
CALSCALE:GREGORIAN
BEGIN:VEVENT
DTSTART:20260506T143000Z
DTEND:20260506T153000Z
X-MICROSOFT-CDO-ALLDAYEVENT:FALSE
SUMMARY:Story Time at South Coastal Library
DESCRIPTION:Join the South Coastal Library in Bethany Beach for a special story time with Miss Bertine from A Seed of Hope Counseling Center and the TRY Program (Trauma Response for Youth). She will be sharing the beloved children's story The Very Hungry Caterpillar in French.\n\nFamilies will also have the opportunity to visit an information table to learn more about A Seed of Hope Counseling Center and the TRY Program and the resources they offer for youth and families.\n\nAges: 5 and under\n\nRegistration: Not required\n\nJoin them for a fun and enriching experience!
X-ALT-DESC;FMTTYPE=text/html:<p><span style="font-size:16px\;">Join the South Coastal Library in Bethany Beach for a special story time with Miss Bertine from A Seed of Hope Counseling Center and the TRY Program (Trauma Response for Youth).&nbsp\;She will be sharing the beloved children&rsquo\;s story The Very Hungry Caterpillar&mdash\;in French.</span></p>\n\n<p><span style="font-size:16px\;">Families will also have the opportunity to visit an information table to learn more about A Seed of Hope Counseling Center and the TRY Program and the resources they offer for youth and families.</span></p>\n\n<p><span style="font-size:16px\;"><strong>Ages:</strong>&nbsp\;5 and under<br />\n<strong>Registration:</strong>&nbsp\;Not required</span></p>\n\n<p><span style="font-size:16px\;">Join them&nbsp\;for a fun and enriching experience!</span></p>\n
LOCATION:
UID:e.2126.44047
SEQUENCE:3
DTSTAMP:20260425T113021Z
URL:https://business.bethany-fenwick.org/events/details/story-time-with-the-easter-bunny-at-south-coastal-library-05-06-2026-44047
END:VEVENT

END:VCALENDAR
