BEGIN:VCALENDAR
VERSION:2.0
PRODID:-//ChamberMaster//Event Calendar 2.0//EN
METHOD:PUBLISH
X-PUBLISHED-TTL:P3D
REFRESH-INTERVAL:P3D
CALSCALE:GREGORIAN
BEGIN:VEVENT
DTSTART:20240712T153000Z
DTEND:20240712T173000Z
X-MICROSOFT-CDO-ALLDAYEVENT:FALSE
SUMMARY:Summer Friday Pizza Party Kids Craft Workshop at Board and Brush
DESCRIPTION:Join us for our Pizza Party Kids' Camp! We provide all the materials and instruct your child step-by-step over the course of the workshop to create fun art projects! Pizza and drinks will also be provided.\n\n\n\nhttps://boardandbrush.com/bethanybeach/events/diychildren39sworkshoppizzaparty/
X-ALT-DESC;FMTTYPE=text/html:Join us for our Pizza Party Kids&#39\; Camp! We provide all the materials and instruct your child step-by-step over the course of the workshop to create fun art projects! Pizza and drinks will also be provided.<br />\n<br />\nhttps://boardandbrush.com/bethanybeach/events/diychildren39sworkshoppizzaparty/
LOCATION:Board & Brush 30447 Cedar Neck Rd. Ocean View DE UNIT 2
UID:e.2126.30335
SEQUENCE:3
DTSTAMP:20260420T133404Z
URL:https://business.bethany-fenwick.org/events/details/summer-friday-pizza-party-kids-craft-workshop-at-board-and-brush-30335
END:VEVENT

END:VCALENDAR
