BEGIN:VCALENDAR
VERSION:2.0
PRODID:-//ChamberMaster//Event Calendar 2.0//EN
METHOD:PUBLISH
X-PUBLISHED-TTL:P3D
REFRESH-INTERVAL:P3D
CALSCALE:GREGORIAN
BEGIN:VEVENT
DTSTART:20240802T160000Z
DTEND:20240802T173000Z
X-MICROSOFT-CDO-ALLDAYEVENT:FALSE
SUMMARY:Summer Friday Pizza Party Kids Craft Workshop at Board & Brush
DESCRIPTION:Join us for our Pizza Party Kids' Camp! We provide all the materials and instruct your child step-by-step over the course of the workshop to create fun art projects! Pizza and drinks will also be provided.\n\n\n\nhttps://boardandbrush.com/bethanybeach/events/08-02-2024-12pm-130pm/
X-ALT-DESC;FMTTYPE=text/html:Join us for our Pizza Party Kids&#39\; Camp! We provide all the materials and instruct your child step-by-step over the course of the workshop to create fun art projects! Pizza and drinks will also be provided.<br />\n<br />\nhttps://boardandbrush.com/bethanybeach/events/08-02-2024-12pm-130pm/
LOCATION:Board & Brush 30447 Cedar Neck Rd.\, Unit 2 Ocean View\, DE 19970
UID:e.2126.30391
SEQUENCE:3
DTSTAMP:20260420T163754Z
URL:https://business.bethany-fenwick.org/events/details/summer-friday-pizza-party-kids-craft-workshop-at-board-brush-08-02-2024-30391
END:VEVENT

END:VCALENDAR
