BEGIN:VCALENDAR
VERSION:2.0
PRODID:-//ChamberMaster//Event Calendar 2.0//EN
METHOD:PUBLISH
X-PUBLISHED-TTL:P3D
REFRESH-INTERVAL:P3D
CALSCALE:GREGORIAN
BEGIN:VEVENT
DTSTART:20240726T230000Z
DTEND:20240727T020000Z
X-MICROSOFT-CDO-ALLDAYEVENT:FALSE
SUMMARY:Tartan Terrors at Freeman Performing Arts
DESCRIPTION:ADMISSION: FREE\n\nWith an extensive performance history gracing festivals and theaters across the United States and Canada\, Tartan Terrors boasts a robust and devoted fan base. The band constitutes their own Celtic Invasion\, seamlessly blending musical prowess with traditional folklore\, dance\, and a generous dose of humor. This seven-piece ensemble wields a dynamic arsenal\, featuring classic bagpipes and fiddle\, compelling drum tones\, and distinctive guitar styles\, captivating standing-room-only audiences by the thousands. The Terrors employ their sonic blitz to accentuate award-winning Step Dancers\, as well as internationally acclaimed comedic performers. Their global footprint extends across four continents\, encompassing some of the most prestigious theaters and festivals in North America. Join the phenomenon of the Tartan Terrors and discover why Celtic Beat Magazine lauds them as "the heirs apparent to the (Celtic) mayhem."
X-ALT-DESC;FMTTYPE=text/html:<h6>ADMISSION: FREE</h6>\n\n<div>With an extensive performance history gracing festivals and theaters across the United States and Canada\,&nbsp\;<strong>Tartan Terrors</strong>&nbsp\;boasts a robust and devoted fan base. The band constitutes their own Celtic Invasion\, seamlessly blending musical prowess with traditional folklore\, dance\, and a generous dose of humor. This seven-piece ensemble wields a dynamic arsenal\, featuring&nbsp\;<strong>classic bagpipes and fiddle</strong>\, compelling drum tones\, and distinctive guitar styles\, captivating standing-room-only audiences by the thousands. The Terrors employ their sonic blitz to accentuate award-winning&nbsp\;<strong>Step Dancers</strong>\, as well as internationally acclaimed comedic performers. Their global footprint extends across&nbsp\;<strong>four continents</strong>\, encompassing some of the most prestigious theaters and festivals in North America. Join the phenomenon of the Tartan Terrors and discover why Celtic Beat Magazine lauds them as &quot\;the heirs apparent to the (Celtic) mayhem.&quot\;</div>\n
LOCATION:Freeman Arts Pavilion 31806 Lake View Dr. Selbyville\, DE 19975
UID:e.2126.28641
SEQUENCE:3
DTSTAMP:20260420T133040Z
URL:https://business.bethany-fenwick.org/events/details/tartan-terrors-at-freeman-performing-arts-28641
END:VEVENT

END:VCALENDAR
