BEGIN:VCALENDAR
VERSION:2.0
PRODID:-//ChamberMaster//Event Calendar 2.0//EN
METHOD:PUBLISH
X-PUBLISHED-TTL:P3D
REFRESH-INTERVAL:P3D
CALSCALE:GREGORIAN
BEGIN:VEVENT
DTSTART:20201126T180000Z
DTEND:20201127T010000Z
X-MICROSOFT-CDO-ALLDAYEVENT:FALSE
SUMMARY:Thanksgiving Dinner at The Salted Rim
DESCRIPTION:Thanksgiving Dinner\n\nThursday\, November 26\n\nDine-In:  1pm-8pm      To Go:  1pm-6pm\n\nAdults:  $18.99     Kids (8 and under):  $11.99\n\n(price does not include a beverage)\n\n\nMenu\n\nOven Roasted Turkey\n\nGlazed Ham\n\nReal Mashed Potatoes\n\nVegetable\n\nCranberry Sauce\n\nHomemade Gravy\n\nDinner Rolls\n\nPumpkin or Apple Pie\n\n\n\nDinner will be served at the restaurant on a first come\, first serve walk-in basis only. \n\nNo reservations required and there is no need to call ahead!\n\n\n\nSorry no buffet due to COVID\n\nNo substitutions please\n\n\n\n\n\nPre-Orders for Thanksgiving Dinner To-Go\n\nOrders must be placed 48 hours in advance to give us time to order and prepare dinner.\n\n\n2 people - $36.00\n\n4 people - $72.00\n\n8 people - $144.00\n\n\n\nExtra Sides:\n\nOven Roasted Turkey (6oz) - $6\n\nGlazed Ham (6oz) - $6\n\nReal Mashed Potatoes (1 pint) - $5\n\nHomemade Stuffing (1 pint) -$5\n\nHomemade Gravy (1 pint) - $7\n\nVegetable (1 pint) - $7\n\nDinner Rolls (4 rolls) - $2\n\nPumpkin or Apple Pie (ea) - $4\n\n\n\nPlease call Cindy 410-371-9657 to place your Thanksgiving Dinner To-Go!\n\n\n\nNo substitutions please\n\n\n\nThirsty...doesn't a freshly made margarita or orange crush sound great with the Thanksgiving dinner.  Call us 30 minutes before your pick up and we can have your drinks waiting for you (drinks will need to be paid for at the time of pickup).
X-ALT-DESC;FMTTYPE=text/html:<div style="text-align:center"><strong><span style="color:#FF0000"><span style="font-size:18px"><span style="font-family:comic sans ms">Thanksgiving Dinner</span></span></span></strong></div>\n\n<div style="text-align:center"><span style="font-size:14px\;"><span style="font-family:arial\;">Thursday\, November 26</span></span></div>\n\n<div style="text-align:center"><span style="font-size:14px\;"><span style="font-family:arial\;">Dine-In:&nbsp\; 1pm-8pm&nbsp\; &nbsp\; &nbsp\; To Go:&nbsp\; 1pm-6pm</span></span></div>\n\n<div style="text-align:center"><span style="font-size:14px\;"><span style="font-family:arial\;">Adults:&nbsp\; $18.99&nbsp\; &bull\;&nbsp\; Kids (8 and under):&nbsp\; $11.99</span></span></div>\n\n<div style="text-align:center"><span style="font-size:14px\;"><span style="font-family:arial\;">(price does not include a beverage)</span></span></div>\n<br />\n<span style="font-size:14px\;"><span style="font-family:arial\;"><span style="color:#FF0000">Menu</span><br />\nOven Roasted Turkey<br />\nGlazed Ham<br />\nReal Mashed Potatoes<br />\nVegetable<br />\nCranberry Sauce<br />\nHomemade Gravy<br />\nDinner Rolls<br />\nPumpkin or Apple Pie<br />\n<br />\nDinner will be served at the restaurant on a first come\, first serve walk-in basis only.&nbsp\;<br />\nNo reservations required and there is no need to call ahead!<br />\n<br />\nSorry no buffet due to COVID<br />\nNo substitutions please</span></span>\n\n<div style="text-align:center"><br />\n<br />\n<span style="color:#FF8C00"><em><span style="font-size:18px"><strong>Pre-Orders for Thanksgiving Dinner To-Go</strong></span></em></span></div>\n\n<div style="text-align:center"><span style="font-size:14px\;"><span style="font-family:arial\;">Orders must be placed 48 hours in advance to give us time to order and prepare dinner.</span></span></div>\n<br />\n<span style="font-size:14px\;"><span style="font-family:arial\;">2 people - $36.00<br />\n4 people - $72.00<br />\n8 people - $144.00<br />\n<br />\n<span style="color:#FF0000">Extra Sides</span>:<br />\nOven Roasted Turkey (6oz) - $6<br />\nGlazed Ham (6oz) - $6<br />\nReal Mashed Potatoes (1 pint) - $5<br />\nHomemade Stuffing (1 pint) -$5<br />\nHomemade Gravy (1 pint) - $7<br />\nVegetable (1 pint) - $7<br />\nDinner Rolls (4 rolls) - $2<br />\nPumpkin or Apple Pie (ea) - $4<br />\n<br />\nPlease call Cindy 410-371-9657 to place your Thanksgiving Dinner To-Go!<br />\n<br />\nNo substitutions please<br />\n<br />\nThirsty...doesn&#39\;t a freshly made margarita or orange crush sound great with the Thanksgiving dinner.&nbsp\; Call us 30 minutes before your pick up and we can have your drinks waiting for you (drinks will need to be paid for at the time of pickup).</span></span>
LOCATION:The Salted Rim 27 Atlantic Avenue Ocean View\, DE 19970 302-537-7373
UID:e.2126.21836
SEQUENCE:3
DTSTAMP:20260422T102420Z
URL:https://business.bethany-fenwick.org/events/details/thanksgiving-at-the-salted-rim-21836
END:VEVENT

END:VCALENDAR
