BEGIN:VCALENDAR
VERSION:2.0
PRODID:-//ChamberMaster//Event Calendar 2.0//EN
METHOD:PUBLISH
X-PUBLISHED-TTL:P3D
REFRESH-INTERVAL:P3D
CALSCALE:GREGORIAN
BEGIN:VEVENT
DTSTART:20230921T120000Z
DTEND:20230921T200000Z
X-MICROSOFT-CDO-ALLDAYEVENT:FALSE
SUMMARY:The 2023 Robert E. Warfield Memorial Tournament\, AGH’s 30th Annual Fall Golf Classic
DESCRIPTION:The Atlantic General Hospital Foundation is pleased to announce the 2023 Robert E. Warfield Memorial Tournament\, AGH's 30th Annual Fall Golf Classic\, will be held on Thursday\, September 21\, 2023\, rain or shine\, at the Ocean City Golf Club.\n\n \n\nThis tournament has become an annual tradition for local golfers and visitors alike\, with last year's event hosting 210 participants on 53 teams. This year's format will be scramble\, with all golfers playing nine holes on each course\, Newport Bay and Seaside. Check-in begins at 8:00am with a 10:00am shotgun start. Lunch will be available beginning at 11:00am. The day concludes with the awards reception around 3:00pm. Each player entry includes golf cart and greens fees\, lunch\, snacks and beverages on the course\, and the awards reception with light fare and cocktails. Deluxe giveaways and tournament awards are also included. Additional excitement includes a variety of on-the-course challenges with fantastic prizes.\n\n \n\nTeam reservations can be submitted online at www.agh.care/golf and must be received by September 14th. Space is limited and earliest entries are accommodated first. Non-golfers can join in the fun by purchasing a 50/50 raffle ticket for the drawing that will take place at the conclusion of the tournament. The raffle ticket sales are open to the public and winners need not be present. Raffle tickets can be purchased online at www.agh.care/golf.
X-ALT-DESC;FMTTYPE=text/html:The Atlantic General Hospital Foundation is pleased to announce <span style="color:black">the 2023 Robert E. Warfield Memorial Tournament\, AGH&rsquo\;s 30th Annual Fall Golf Classic\, will be held on Thursday\, September 21\, 2023\, rain or shine\, at the Ocean City Golf Club.</span><br />\n&nbsp\;<br />\nThis tournament has become an annual tradition for local golfers and visitors alike\, with last year&rsquo\;s event hosting 210 participants on 53 teams. This year&rsquo\;s format will be scramble\, with all golfers playing nine holes on each course\, Newport Bay and Seaside. Check-in begins at 8:00am with a 10:00am shotgun start. Lunch will be available beginning at 11:00am. The day concludes with the awards reception around 3:00pm. Each player entry includes golf cart and greens fees\, lunch\, snacks and beverages on the course\, and the awards reception with light fare and cocktails. Deluxe giveaways and tournament awards are also included. Additional excitement includes a variety of on-the-course challenges with fantastic prizes.<br />\n&nbsp\;<br />\n<span style="font-family:calibri\,sans-serif"><span style="font-size:11.0pt">Team reservations can be submitted online at <a href="http://www.agh.care/golf"><span style="color:windowtext">www.agh.care/golf</span></a> and must be received by September 14<sup>th</sup>. Space is limited and earliest entries are accommodated first. Non-golfers can join in the fun by purchasing a 50/50 raffle ticket for the drawing that will take place at the conclusion of the tournament. The raffle ticket sales are open to the public and winners need not be present. Raffle tickets can be purchased online at <a href="http://www.agh.care/golf"><span style="color:windowtext">www.agh.care/golf</span></a>.</span></span>
LOCATION:Ocean City Golf Club 11401 Country Club Drive\, Berlin\, MD 21811
UID:e.2126.26155
SEQUENCE:3
DTSTAMP:20260420T212054Z
URL:https://business.bethany-fenwick.org/events/details/the-2023-robert-e-warfield-memorial-tournament-agh-s-30th-annual-fall-golf-classic-26155
END:VEVENT

END:VCALENDAR
