BEGIN:VCALENDAR
VERSION:2.0
PRODID:-//ChamberMaster//Event Calendar 2.0//EN
METHOD:PUBLISH
X-PUBLISHED-TTL:P3D
REFRESH-INTERVAL:P3D
CALSCALE:GREGORIAN
BEGIN:VEVENT
DTSTART:20240823T230000Z
DTEND:20240824T020000Z
X-MICROSOFT-CDO-ALLDAYEVENT:FALSE
SUMMARY:The Broken Hearts: A Tribute To Tom Petty & The Heartbreakers at Freeman Performing Arts
DESCRIPTION:"The Broken Hearts" were created by former Tom Petty and Mudcrutch band mate\; musician\, songwriter\, author and bassist Charlie Souza along with singer/songwriter Shawn Scheller (Save The Radio!) as a tribute to Tom Petty's passing in October of 2017. Originally intended only as a temporary project\, the group of musicians including keyboardist Robin Swenson (Air Supply\, Frankie Valli & Four Seasons\, Chuck Negron's 3 Dog Night)\, guitarist Joe Sanders\, drummer Scott Lockhart\, Souza and Scheller became continuously requested to return to events in Tom's honor.\n\nIn 2018\, the decision was made to become an official touring tribute project paying respect and honor to the life and music of Thomas Earl Petty (October 20\, 1950   October 2\, 2017). The current touring band consists of Mateo Olivo as Mike Campbell on lead guitar\, Julian Simonelli as Howie Epstein on bass guitar\, Aidan Cain as Benmont Tench on Piano\, Organ and keyboards\, Scott Lockhart as Stan Lynch on drums and Shawn Scheller as Tom Petty on vocals and guitar."
X-ALT-DESC;FMTTYPE=text/html:<p>&ldquo\;The Broken Hearts&quot\; were created by former Tom Petty and Mudcrutch band mate\; musician\, songwriter\, author and bassist Charlie Souza along with singer/songwriter Shawn Scheller (Save The Radio!) as a tribute to Tom Petty&#39\;s&nbsp\;passing in October of 2017. Originally intended only as a temporary project\, the group of musicians including keyboardist Robin Swenson (Air Supply\, Frankie Valli &amp\; Four Seasons\, Chuck Negron&#39\;s 3 Dog Night)\, guitarist Joe Sanders\, drummer Scott Lockhart\, Souza and Scheller became continuously requested to return to events in Tom&#39\;s honor.</p>\n\n<p>In 2018\, the decision was made to become an official touring tribute project paying respect and honor to the life and music of&nbsp\;Thomas Earl Petty&nbsp\;(October 20\, 1950&nbsp\;&ndash\; October 2\, 2017). The current touring band consists of Mateo Olivo as Mike Campbell on lead guitar\, Julian Simonelli as Howie Epstein on bass guitar\, Aidan Cain as Benmont Tench on Piano\, Organ and keyboards\, Scott Lockhart as Stan Lynch on drums and Shawn Scheller as Tom Petty on vocals and guitar.&rdquo\;&nbsp\;</p>\n
LOCATION:Freeman Performing Arts 31806 Lakeview Drive Selbyville\, DE 19975
UID:e.2126.29312
SEQUENCE:3
DTSTAMP:20260420T163649Z
URL:https://business.bethany-fenwick.org/events/details/the-broken-hearts-a-tribute-to-tom-petty-the-heartbreakers-at-freeman-performing-arts-29312
END:VEVENT

END:VCALENDAR
