BEGIN:VCALENDAR
VERSION:2.0
PRODID:-//ChamberMaster//Event Calendar 2.0//EN
METHOD:PUBLISH
X-PUBLISHED-TTL:P3D
REFRESH-INTERVAL:P3D
CALSCALE:GREGORIAN
BEGIN:VEVENT
DTSTART:20240809T230000Z
DTEND:20240810T020000Z
X-MICROSOFT-CDO-ALLDAYEVENT:FALSE
SUMMARY:The Concert: A Tribute to ABBA
DESCRIPTION:21st Century Artists\, Inc. has been presenting its ABBA tribute show throughout North America for well over a decade\, previously known as ABBA The Music\, ABBA The Hits\, and ABBA The Concert. The audience and press all agree   "This is the closest to ABBA you'll ever get."\n\nThe Concert: A Tribute To ABBA brings one of the greatest pop phenomena back to life  \n\nHere are a few highlights from its many successful US tours  \n\n\n	Sold-out shows at the famous Hollywood Bowl in Los Angeles (15\,000 people)\n	Highland Park in Chicago (20\,000 people)\n	Seaside Summer Concert Series in Brooklyn\, NY (11\,000+ people)\n	Sold-out nights at both the Sunrise Theatre in Fort Pierce\, FL and at the Kravis Center in West Palm Beach\, FL\n	Sold-out performance at the Wolf Trap in Vienna\, VA\n\n\nThe Concert: A Tribute To ABBA continues to be the top ABBA tribute group in the world\, dazzling all who see with their fantastic performance while playing the most iconic hits from ABBA\, including "Mamma Mia\," "S.O.S\," "Money\, Money\, Money\," "The Winner Takes All\," "Waterloo\," "Gimme\, Gimme\, Gimme\," and "Dancing Queen."\n\nMany critics agree\, The Concert: A Tribute To ABBA is the most amazing and authentic ABBA tribute show in the world. Come dance\, come sing\, having the time of your life at THE ULTIMATE TRIBUTE CELEBRATION!\n\n*The Concert: A Tribute To ABBA is not affiliated with the original ABBA group or Mamma Mia. *
X-ALT-DESC;FMTTYPE=text/html:<p>21st Century Artists\, Inc. has been presenting its ABBA tribute show throughout North America for well over a decade\, previously known as ABBA The Music\, ABBA The Hits\, and ABBA The Concert. The audience and press all agree &mdash\; &ldquo\;This is the closest to ABBA you&rsquo\;ll ever get.&rdquo\;</p>\n\n<p>The Concert: A Tribute To ABBA brings one of the greatest pop phenomena back to life &hellip\;</p>\n\n<p>Here are a few highlights from its many successful US tours &hellip\;</p>\n\n<ul>\n	<li>Sold-out shows at the famous Hollywood Bowl in Los Angeles (15\,000 people)</li>\n	<li>Highland Park in Chicago (20\,000 people)</li>\n	<li>Seaside Summer Concert Series in Brooklyn\, NY (11\,000+ people)</li>\n	<li>Sold-out nights at both the Sunrise Theatre in Fort Pierce\, FL and at the Kravis Center in West Palm Beach\, FL</li>\n	<li>Sold-out performance at the Wolf Trap in Vienna\, VA</li>\n</ul>\n\n<p>The Concert: A Tribute To ABBA continues to be the top ABBA tribute group in the world\, dazzling all who see with their fantastic performance while playing the most iconic hits from ABBA\, including &ldquo\;Mamma Mia\,&rdquo\; &ldquo\;S.O.S\,&rdquo\; &ldquo\;Money\, Money\, Money\,&rdquo\; &ldquo\;The Winner Takes All\,&rdquo\; &ldquo\;Waterloo\,&rdquo\; &ldquo\;Gimme\, Gimme\, Gimme\,&rdquo\; and &ldquo\;Dancing Queen.&rdquo\;</p>\n\n<p>Many critics agree\, The Concert: A Tribute To ABBA is the most amazing and authentic ABBA tribute show in the world. Come dance\, come sing\, having the time of your life at THE ULTIMATE TRIBUTE CELEBRATION!</p>\n\n<p style="text-align:center"><em><strong>*The Concert: A Tribute To ABBA is not affiliated with the original ABBA group or Mamma Mia. *</strong></em></p>\n
LOCATION:Freeman Arts Pavilion 31806 Lake View Dr\, Selbyville\, DE 19975
UID:e.2126.28645
SEQUENCE:3
DTSTAMP:20260420T163822Z
URL:https://business.bethany-fenwick.org/events/details/the-concert-a-tribute-to-abba-08-09-2024-28645
END:VEVENT

END:VCALENDAR
