BEGIN:VCALENDAR
VERSION:2.0
PRODID:-//ChamberMaster//Event Calendar 2.0//EN
METHOD:PUBLISH
X-PUBLISHED-TTL:P3D
REFRESH-INTERVAL:P3D
CALSCALE:GREGORIAN
BEGIN:VEVENT
DTSTART:20220925T220000Z
DTEND:20220925T233000Z
X-MICROSOFT-CDO-ALLDAYEVENT:FALSE
SUMMARY:The Fabulous Dialtones
DESCRIPTION:This classic rock band based in DC features horn-powered top 40 hits from the '50s\, '60s\, '70s\, and '80s. Originally formed by employees of MCI in 1996\, this group plays your favorites plus a few originals.
X-ALT-DESC;FMTTYPE=text/html:This classic rock band based in DC features horn-powered top 40 hits from the &lsquo\;50s\, &lsquo\;60s\, &lsquo\;70s\, and &lsquo\;80s. Originally formed by employees of MCI in 1996\, this group plays your favorites plus a few originals.
LOCATION:Bethany Beach Bandstand
UID:e.2126.24037
SEQUENCE:3
DTSTAMP:20260421T190356Z
URL:https://business.bethany-fenwick.org/events/details/the-fabulous-dialtones-09-25-2022-24037
END:VEVENT

END:VCALENDAR
