BEGIN:VCALENDAR
VERSION:2.0
PRODID:-//ChamberMaster//Event Calendar 2.0//EN
METHOD:PUBLISH
X-PUBLISHED-TTL:P3D
REFRESH-INTERVAL:P3D
CALSCALE:GREGORIAN
BEGIN:VEVENT
DTSTART:20230909T230000Z
DTEND:20230910T000000Z
X-MICROSOFT-CDO-ALLDAYEVENT:FALSE
SUMMARY:THE FIRST TIME…THE MUSIC OF ROBERTA FLACK* Natalie Douglas in Concert with Jon Weber
DESCRIPTION:Thirteen-time MAC Award\, two-time Backstage Bistro Award and Nightlife Award Winner NATALIE DOUGLAS and her Music Director\, JON WEBER of NPR's Piano Jazz\, return to Dickens Parlour Theatre with her critically acclaimed show: THE FIRST TIME THE MUSIC OF ROBERTA FLACK. After SRO performances of this concert in San Francisco\, London & NYC\, Natalie Douglas is thrilled to share this stunning tribute to the phenomenal Roberta Flack. Through the use of her gorgeous voice & fascinating stories about Ms. Flack\, Natalie & Jon\, celebrate the hallmarks of Roberta Flack's career   that luminous voice\, and peerless musical virtuosity\, leading to chart-topping song after song\, and garnering millions of sales along with well-deserved awards & accolades. As a young girl\, Natalie joined Flack's many fans around the world in their devotion to Flack's beauty\, dignity\, and emotional impact. Natalie performs songs associated with the legendary singer\, including "Making Love\," "Compared to What?\," "The First Time Ever I Saw Your Face" & of course\, "Killing Me Softly with His Song." Don't miss THE FIRST TIME THE MUSIC OF ROBERTA FLACK   a fantastic celebration of one of the world's most beloved singers   Roberta Flack.
X-ALT-DESC;FMTTYPE=text/html:<p>Thirteen-time&nbsp\;MAC&nbsp\;Award\, two-time Backstage Bistro Award and Nightlife Award Winner&nbsp\;NATALIE DOUGLAS&nbsp\;and her Music Director\,&nbsp\;JON WEBER&nbsp\;of&nbsp\;NPR&rsquo\;s Piano Jazz\, return to Dickens Parlour Theatre with her critically acclaimed show:&nbsp\;THE FIRST TIME&hellip\;THE&nbsp\;MUSIC OF ROBERTA FLACK. After&nbsp\;SRO&nbsp\;performances of this concert in San Francisco\, London &amp\;&nbsp\;NYC\, Natalie Douglas is thrilled to share this stunning tribute to the phenomenal Roberta Flack. Through the use of her gorgeous voice &amp\; fascinating stories about Ms. Flack\, Natalie &amp\; Jon\, celebrate the hallmarks of Roberta Flack&rsquo\;s career &ndash\; that luminous voice\, and peerless musical virtuosity\, leading to chart-topping song after song\, and garnering millions of sales along with well-deserved awards &amp\; accolades. As a young girl\, Natalie joined Flack&rsquo\;s many fans around the world in their devotion to Flack&rsquo\;s beauty\, dignity\, and emotional impact. Natalie performs songs associated with the legendary singer\, including &ldquo\;Making Love\,&rdquo\; &ldquo\;Compared to What?\,&rdquo\; &ldquo\;The First Time Ever I Saw Your Face&rdquo\; &amp\; of course\, &ldquo\;Killing Me Softly with His Song.&rdquo\; Don&rsquo\;t miss&nbsp\;THE FIRST TIME&hellip\;THE&nbsp\;MUSIC OF ROBERTA FLACK&nbsp\;&ndash\; a fantastic celebration of one of the world&rsquo\;s most beloved singers &ndash\; Roberta Flack.</p>\n
LOCATION:Dickens Parlour Theatre 31810 Good Earth Lane Ocean View\, DE 19970
UID:e.2126.26478
SEQUENCE:3
DTSTAMP:20260420T213602Z
URL:https://business.bethany-fenwick.org/events/details/the-first-time-the-music-of-roberta-flack-natalie-douglas-in-concert-with-jon-weber-09-09-2023-26478
END:VEVENT

END:VCALENDAR
