BEGIN:VCALENDAR
VERSION:2.0
PRODID:-//ChamberMaster//Event Calendar 2.0//EN
METHOD:PUBLISH
X-PUBLISHED-TTL:P3D
REFRESH-INTERVAL:P3D
CALSCALE:GREGORIAN
BEGIN:VEVENT
DTSTART:20210618T150000Z
DTEND:20210618T163000Z
X-MICROSOFT-CDO-ALLDAYEVENT:FALSE
SUMMARY:The Magical\, Whimsical World of Fairy Gardens
DESCRIPTION:Join us for a fun\, whimsical workshop to learn how to create your own charming fairy garden. You'll learn about the basic components of fairy garden construction and then have the opportunity to make one of your own. The workshop will be led by Alison Schweiger\, our on-site florist and an award winning floral designer. $10 per Adult/Child Pair. Does not include materials. You are welcome to bring your own or purchase at the garden center. Purchase Tickets HERE. Children 5+ Each child must be accompanied by an adult.
X-ALT-DESC;FMTTYPE=text/html:<span style="font-size:14px\;"><span style="font-family:arial\;">Join us for a fun\, whimsical workshop to learn how to create your own charming fairy garden. You&rsquo\;ll learn about the basic components of fairy garden construction and then have the opportunity to make one of your own. The workshop will be led by Alison Schweiger\, our on-site florist and an award winning floral designer. $10 per Adult/Child Pair. Does not include materials. You are welcome to bring your own or purchase at the garden center. Purchase Tickets HERE. Children 5+ Each child must be accompanied by an adult.</span></span>
LOCATION:Inland Bays Garden Center 38320 Muddy Neck Rd Frankford\, DE 19945
UID:e.2126.22400
SEQUENCE:3
DTSTAMP:20260424T204747Z
URL:https://business.bethany-fenwick.org/events/details/the-magical-whimsical-world-of-fairy-gardens-22400
END:VEVENT

END:VCALENDAR
