BEGIN:VCALENDAR
VERSION:2.0
PRODID:-//ChamberMaster//Event Calendar 2.0//EN
METHOD:PUBLISH
X-PUBLISHED-TTL:P3D
REFRESH-INTERVAL:P3D
CALSCALE:GREGORIAN
BEGIN:VEVENT
DTSTART;VALUE=DATE:20250509
DTEND;VALUE=DATE:20250511
TRANSP:TRANSPARENT
X-MICROSOFT-CDO-ALLDAYEVENT:TRUE
SUMMARY:The Memorial at Bear Trap
DESCRIPTION:The Memorial Event will take place on Friday\, May 9 and Saturday\, May 10th!\n\n\n\nTBD Cost per Player\, plus applicable cart fee\n\n\n\n  Event Includes: Pairings party Friday night\, Lunch following play on Saturday \n\n  Format: 11 am Shotgun\, 18-Holes\, A-B-C-D Blind Better ball (Teams will be randomly selected at Pairings Party)\, Best 2 of 4 Net to Decide overall winner\, MEMBERS ONLY\n\n  Payout: No prizes given\, parimutuel betting will be offered.   Celebratory event in memory of past Bear Trap Dunes members
X-ALT-DESC;FMTTYPE=text/html:The Memorial Event will take place on Friday\, May 9 and Saturday\, May 10th!<br />\n<br />\nTBD Cost per Player\, plus applicable cart fee<br />\n<br />\n&bull\; Event Includes: Pairings party Friday night\, Lunch following play on Saturday&nbsp\;<br />\n&bull\; Format: 11 am Shotgun\, 18-Holes\, A-B-C-D Blind Better ball (Teams will be randomly selected at Pairings Party)\, Best 2 of 4 Net to Decide overall winner\, MEMBERS ONLY<br />\n&bull\; Payout: No prizes given\, parimutuel betting will be offered. &bull\; Celebratory event in memory of past Bear Trap Dunes members&nbsp\;
LOCATION:
UID:e.2126.38211
SEQUENCE:3
DTSTAMP:20260422T130904Z
URL:https://business.bethany-fenwick.org/events/details/the-memorial-at-bear-trap-38211
END:VEVENT

END:VCALENDAR
