BEGIN:VCALENDAR
VERSION:2.0
PRODID:-//ChamberMaster//Event Calendar 2.0//EN
METHOD:PUBLISH
X-PUBLISHED-TTL:P3D
REFRESH-INTERVAL:P3D
CALSCALE:GREGORIAN
BEGIN:VEVENT
DTSTART:20200809T000000Z
DTEND:20200809T020000Z
X-MICROSOFT-CDO-ALLDAYEVENT:FALSE
SUMMARY:The Reagan Years: '80s Tribute Band
DESCRIPTION:Talented musicians with very diverse vocal abilities enable this group to replicate the Pop\, Rock\, New Wave and Heavy Metal hits of the M-TV Era. Bon Jovi \, Madonna\, Joan Jett\, Def Leppard\, Whitney Houston\, Billy Idol\, Journey\, INXS\, Guns 'N Roses\, A-Ha\, Hall & Oates\, Men At Work\, Cyndi Lauper\, Huey Lewis and Bruce Springsteen. The band covers all the mega-artists and you will sing along to every song! Since 1996\, The Reagan Years has been delighting sold-out audiences throughout the East Coast and entertaining corporate events as far away as Hawaii and foreign countries such as Spain\, Germany\, and Panama. This band pioneered the '80s multi-band tribute concept and like any great idea\, many have imitated it however none have replicated the magic of The Reagan Years.
X-ALT-DESC;FMTTYPE=text/html:<span style="font-size: 14px\;"><span style="font-family: arial\;">Talented musicians with very diverse vocal abilities enable this group to replicate the Pop\, Rock\, New Wave and Heavy Metal hits of the M-TV Era. Bon Jovi \, Madonna\, Joan Jett\, Def Leppard\, Whitney Houston\, Billy Idol\, Journey\, INXS\, Guns &lsquo\;N Roses\, A-Ha\, Hall &amp\; Oates\, Men At Work\, Cyndi Lauper\, Huey Lewis and Bruce Springsteen. The band covers all the mega-artists and you will sing along to every song! Since 1996\, The Reagan Years has been delighting sold-out audiences throughout the East Coast and entertaining corporate events as far away as Hawaii and foreign countries such as Spain\, Germany\, and Panama. This band pioneered the &#39\;80s multi-band tribute concept and like any great idea\, many have imitated it however none have replicated the magic of The Reagan Years.</span></span>
LOCATION:The Freeman Stage 31750 Lake View Drive Selbyville\, DE 19975
UID:e.2126.21713
SEQUENCE:3
DTSTAMP:20260425T162036Z
URL:https://business.bethany-fenwick.org/events/details/the-reagan-years-80s-tribute-band-21713
END:VEVENT

END:VCALENDAR
