BEGIN:VCALENDAR
VERSION:2.0
PRODID:-//ChamberMaster//Event Calendar 2.0//EN
METHOD:PUBLISH
X-PUBLISHED-TTL:P3D
REFRESH-INTERVAL:P3D
CALSCALE:GREGORIAN
BEGIN:VEVENT
DTSTART:20210610T233000Z
DTEND:20210611T010000Z
X-MICROSOFT-CDO-ALLDAYEVENT:FALSE
SUMMARY:The Uptown Band
DESCRIPTION:The Uptown Band hails from Reading\, PA and is celebrating their 15th anniversary in 2021.  They have been a featured act at hundreds of events nationwide and boast a song list that spans the decades of the past 70 years.  Be ready to clap\, sing along\, and become part of this engaging show. www.uptownbandmusic.com
X-ALT-DESC;FMTTYPE=text/html:<span style="font-size:12px">The Uptown Band hails from Reading\, PA and is celebrating their 15<sup>th</sup> anniversary in 2021.&nbsp\; They have been a featured act at hundreds of events nationwide and boast a song list that spans the decades of the past 70 years.&nbsp\; Be ready to clap\, sing along\, and become part of this engaging show. <u>www.uptownbandmusic.com</u></span>
LOCATION:Bethany Beach Bandstand Garfield Parkway & Boardwalk\, Bethany Beach
UID:e.2126.22030
SEQUENCE:3
DTSTAMP:20260424T202113Z
URL:https://business.bethany-fenwick.org/events/details/the-uptown-band-06-10-2021-22030
END:VEVENT

END:VCALENDAR
