BEGIN:VCALENDAR
VERSION:2.0
PRODID:-//ChamberMaster//Event Calendar 2.0//EN
METHOD:PUBLISH
X-PUBLISHED-TTL:P3D
REFRESH-INTERVAL:P3D
CALSCALE:GREGORIAN
BEGIN:VEVENT
DTSTART:20240827T220000Z
DTEND:20240827T233000Z
X-MICROSOFT-CDO-ALLDAYEVENT:FALSE
SUMMARY:Tuesday Night Music Bingo & Trivia with Tunes & Trivia with Jersey John at Bethany Brewing
DESCRIPTION:Join us for music bingo and trivia with Jersey John Tuesday nights from 6-7:30pm.\n\nWeekly prizes awarded!\n\nNo Music Bingo on 7/16/24
X-ALT-DESC;FMTTYPE=text/html:<span style="color:#333333"><span style="font-family:arial\,sans-serif"><span style="font-size:10.0pt">Join us for music bingo and trivia with Jersey John Tuesday nights from 6-7:30pm.<br />\nWeekly prizes awarded!<br />\n<strong>No Music Bingo on 7/16/24</strong></span></span></span>
LOCATION:Bethany Brewing 38450 Hickman Rd. Ocean View\, De 19970
UID:e.2126.30565
SEQUENCE:3
DTSTAMP:20260420T164122Z
URL:https://business.bethany-fenwick.org/events/details/tuesday-night-music-bingo-trivia-with-tunes-trivia-with-jersey-john-at-bethany-brewing-08-27-2024-30565
END:VEVENT

END:VCALENDAR
