BEGIN:VCALENDAR
VERSION:2.0
PRODID:-//ChamberMaster//Event Calendar 2.0//EN
METHOD:PUBLISH
X-PUBLISHED-TTL:P3D
REFRESH-INTERVAL:P3D
CALSCALE:GREGORIAN
BEGIN:VEVENT
DTSTART:20230926T213000Z
DTEND:20230926T233000Z
X-MICROSOFT-CDO-ALLDAYEVENT:FALSE
SUMMARY:Twin Poets to perform at the Selbyville Library
DESCRIPTION:Freeman Arts Pavilion is excited to present a free performance by the Twin Poets\, on Tuesday\, Sept. 26\, at 5:30 p.m. hosted by the Selbyville Public Library.\n\n \n\nFreeman Arts\, a program of the Joshua M. Freeman Foundation\, has partnered with The Twin Poets through its Arts Education program for several years. \n\n\n\nAlong with holding the distinction of being Delaware's Poets Laureate\, brothers Albert Mills and Representative Nnamdi Chukwoucha\, have both served their country in the U.S. Army\, and their communities with careers in social work. Through their life experiences\, the brothers discovered the transformative and healing power of poetry\, directing their work particularly to helping young people and veterans.
X-ALT-DESC;FMTTYPE=text/html:<span style="font-size:14px\;"><span style="font-family:arial\;">Freeman Arts Pavilion is excited to present a free performance by the <a href="https://www.twinpoets.org/bio">Twin Poets</a>\, on Tuesday\, Sept. 26\, at 5:30 p.m. hosted by the Selbyville Public Library.<br />\n&nbsp\;<br />\nFreeman Arts\, a program of the Joshua M. Freeman Foundation\, has partnered with The Twin Poets through its Arts Education program for several years.&nbsp\;<br />\n<br />\nAlong with holding the distinction of being Delaware&rsquo\;s Poets Laureate\, brothers Albert Mills and Representative Nnamdi Chukwoucha\, have both served their country in the U.S. Army\, and their communities with careers in social work. Through their life experiences\, the brothers discovered the transformative and healing power of poetry\, directing their work particularly to helping young people and veterans.&nbsp\;</span></span>
LOCATION:Selbyville Public Library 11 S. Main St. Selbyville\, DE 19975
UID:e.2126.26934
SEQUENCE:3
DTSTAMP:20260420T212052Z
URL:https://business.bethany-fenwick.org/events/details/twin-poets-to-perform-at-the-selbyville-library-26934
END:VEVENT

END:VCALENDAR
