BEGIN:VCALENDAR
VERSION:2.0
PRODID:-//ChamberMaster//Event Calendar 2.0//EN
METHOD:PUBLISH
X-PUBLISHED-TTL:P3D
REFRESH-INTERVAL:P3D
CALSCALE:GREGORIAN
BEGIN:VEVENT
DTSTART:20240728T230000Z
DTEND:20240729T020000Z
X-MICROSOFT-CDO-ALLDAYEVENT:FALSE
SUMMARY:Tyler Hubbard at Freeman Performing Arts
DESCRIPTION:With 21 No.1 singles on country radio\, countless awards\, and sold-out tours\, Tyler Hubbard has already had a remarkable career as a songwriter and as one-half of the multi-platinum duo Florida Georgia Line. Hubbard's debut solo album\, aptly titled "Tyler Hubbard\," was released in January 2023 and has amassed more than 1 billion streams to date.\n\nIt features Hubbard's hit debut solo single "5 Foot 9\," which hit No. 1 on Country Radio\, was certified two-times Platinum by the RIAA and has 551 million global streams. It also features Hubbard's second No. 1 single\, "Dancin' In The Country\," which has amassed more than 400 million global streams\, has been certified Platinum by the RIAA\, and marked his second No. 1 on Country Radio.\n\nHubbard has made several television appearances as a solo artist\, most recently at NBC's TODAY Show\, and also on the CMT Music Awards\, Good Morning America and The Tonight Show Starring Jimmy Fallon. Hubbard's new radio single "Back Then Right Now" is out now\, and it is the first of Hubbard's album "Strong\," which was released April 12 via EMI Nashville.
X-ALT-DESC;FMTTYPE=text/html:<p>With 21 No.1 singles on country radio\, countless awards\, and sold-out tours\, Tyler Hubbard has already had a remarkable career as a songwriter and as one-half of the multi-platinum duo Florida Georgia Line. Hubbard&rsquo\;s debut solo album\, aptly titled &quot\;Tyler Hubbard\,&quot\; was released in January 2023 and has amassed more than 1 billion streams to date.</p>\n\n<p>It features Hubbard&rsquo\;s hit debut solo single &ldquo\;5 Foot 9\,&rdquo\; which hit No. 1 on Country Radio\, was certified two-times Platinum by the RIAA and has 551 million global streams. It also features Hubbard&rsquo\;s second No. 1 single\, &ldquo\;Dancin&rsquo\; In The Country\,&rdquo\; which has amassed more than 400 million global streams\, has been certified Platinum by the RIAA\, and marked his second No. 1 on Country Radio.</p>\n\n<p>Hubbard has made several television appearances as a solo artist\, most recently at NBC&rsquo\;s TODAY Show\, and also on the CMT Music Awards\, Good Morning America and The Tonight Show Starring Jimmy Fallon. Hubbard&rsquo\;s new radio single &ldquo\;Back Then Right Now&rdquo\; is out now\, and it is the first of Hubbard&rsquo\;s album &quot\;Strong\,&quot\; which was released April 12 via EMI Nashville.</p>\n
LOCATION:Freeman Arts Pavilion 31806 Lakeview Drive Selbyville\, DE 19975
UID:e.2126.29305
SEQUENCE:3
DTSTAMP:20260420T133032Z
URL:https://business.bethany-fenwick.org/events/details/tyler-hubbard-at-freeman-performing-arts-29305
END:VEVENT

END:VCALENDAR
