BEGIN:VCALENDAR
VERSION:2.0
PRODID:-//ChamberMaster//Event Calendar 2.0//EN
METHOD:PUBLISH
X-PUBLISHED-TTL:P3D
REFRESH-INTERVAL:P3D
CALSCALE:GREGORIAN
BEGIN:VEVENT
DTSTART;VALUE=DATE:20240119
DTEND;VALUE=DATE:20240216
TRANSP:TRANSPARENT
X-MICROSOFT-CDO-ALLDAYEVENT:TRUE
SUMMARY:Valentines Day Gift Ideas from Alni Body Care! New! Limited Edition Pink Shower Steamers and Heart Bath Bombs!
DESCRIPTION:Valentines Day Gift Ideas from Alni Body Care! New! Limited Edition Pink Shower Steamers and Heart Bath Bombs! \n\n\n\nLooking for the perfect Valentines Day gift for that special someone? Or simply looking to treat yourself?  Alni Body Care limited edition Valentines Day Bath and Body Care is the perfect gift for anyone!  \n*NEW* Limited Edition Pink Lavender Menthol Shower Steamers!  Colored pink with dragon fruit\, always colored with nature\, never dyes! Topped with dried lavender flowers from a local lavender farm here in Dagsboro\, DE\, Reinke Farms! \n\n\n\n*NEW* Limited Edition Lavender Eucalyptus Heart Bath Bombs! Made with avocado oil\, epsom salt\, and topped with local dried lavender flowers! Colored pink with dragon fruit.  \n\n\n\nShop Pink Shower Steamers\n\nShop Valentines Pink Heart Bath Bombs\n\n\n\nOrder online for local pick-up\, local delivery\, and shipping! 10% off with code VALENTINE10 \n\n\n\nwww.alnibodycare.com
X-ALT-DESC;FMTTYPE=text/html:<h1><strong><span style="font-size:14px"><span style="font-family:times new roman">Valentines Day Gift Ideas from Alni Body Care! New! Limited Edition Pink Shower Steamers and Heart Bath Bombs!&nbsp\;</span></span></strong><br />\n<br />\n<em>Looking for the perfect Valentines Day gift for that special someone? Or simply looking to treat yourself?&nbsp\; Alni Body Care limited edition Valentines Day Bath and Body Care is the perfect gift for anyone!&nbsp\;&nbsp\;</em></h1>\n<span style="font-size:14px"><span style="font-family:times new roman"><strong>*NEW* Limited Edition <a href="https://www.alnibodycare.com/products/limitededition-pink-lavendermenthol-showersteamers-for-valentines-day">Pink Lavender Menthol Shower Steamers</a>!</strong>&nbsp\; Colored pink with dragon fruit\, always colored with nature\, never dyes! Topped with dried lavender flowers from a local lavender farm here in Dagsboro\, DE\, Reinke Farms!&nbsp\;<br />\n<br />\n<strong>*NEW* Limited Edition <a href="https://www.alnibodycare.com/products/new-noninfused-lavendereucalyptus-valentines-heart-bath-bombs-colored-with-dragon-fruit">Lavender Eucalyptus Heart Bath Bombs</a>!</strong> Made with avocado oil\, epsom salt\, and topped with local dried lavender flowers! Colored pink with dragon fruit.&nbsp\;&nbsp\;<br />\n<br />\n<a href="https://www.alnibodycare.com/products/limitededition-pink-lavendermenthol-showersteamers-for-valentines-day">Shop Pink Shower Steamers</a><br />\n<a href="https://www.alnibodycare.com/products/new-noninfused-lavendereucalyptus-valentines-heart-bath-bombs-colored-with-dragon-fruit">Shop Valentines Pink Heart Bath Bombs</a><br />\n<br />\n<strong>Order online for local pick-up\, local delivery\, and shipping! </strong>10% off with code<strong> VALENTINE10&nbsp\;</strong><br />\n<br />\n<strong><a href="https://www.alnibodycare.com/">www.alnibodycare.com</a></strong></span></span>
LOCATION:Ocean View\, DE www.alnibodycare.com
UID:e.2126.27806
SEQUENCE:3
DTSTAMP:20260420T113329Z
URL:https://business.bethany-fenwick.org/events/details/valentines-day-gift-ideas-from-alni-body-care-new-limited-edition-pink-shower-steamers-and-heart-bath-bombs-27806
END:VEVENT

END:VCALENDAR
