BEGIN:VCALENDAR
VERSION:2.0
PRODID:-//ChamberMaster//Event Calendar 2.0//EN
METHOD:PUBLISH
X-PUBLISHED-TTL:P3D
REFRESH-INTERVAL:P3D
CALSCALE:GREGORIAN
BEGIN:VEVENT
DTSTART:20210924T170000Z
DTEND:20210924T190000Z
X-MICROSOFT-CDO-ALLDAYEVENT:FALSE
SUMMARY:Victorian Fridays at the Lewes History Museum
DESCRIPTION:Explore the Victorian era at the Lewes History Museum through museum exhibits\, artifacts\, and historic interpreters. Monthly topics will focus on Lewes during the second half of the nineteenth century.
X-ALT-DESC;FMTTYPE=text/html:<span style="font-family:arial\;"><span style="font-size:14px\;">Explore the Victorian era at the Lewes History Museum through museum exhibits\, artifacts\, and historic interpreters. Monthly topics will focus on Lewes during the second half of the nineteenth century.</span></span>
LOCATION:Lewes History Museum 101 Adams Ave Lewes\, DE 19958
UID:e.2126.22674
SEQUENCE:3
DTSTAMP:20260422T234654Z
URL:https://business.bethany-fenwick.org/events/details/victorian-friday-at-the-lewes-history-museum-09-24-2021-22674
END:VEVENT

END:VCALENDAR
