BEGIN:VCALENDAR
VERSION:2.0
PRODID:-//ChamberMaster//Event Calendar 2.0//EN
METHOD:PUBLISH
X-PUBLISHED-TTL:P3D
REFRESH-INTERVAL:P3D
CALSCALE:GREGORIAN
BEGIN:VEVENT
DTSTART:20240802T230000Z
DTEND:20240803T020000Z
X-MICROSOFT-CDO-ALLDAYEVENT:FALSE
SUMMARY:Voyage — Celebrating the Music of Journey at Freeman Performing Arts
DESCRIPTION:Tickets are $30+fees\n\nChildren 12 and under do not require a ticket and are free to attend.\n\nVoyage has been hailed by fans and critics alike as the #1 Journey tribute band in the world\, performing Journey's music with chilling accuracy! Since 2005\, Voyage has dominated America with more sold-out shows than any other tribute. \n\nSinger Hugo\, is an absolute dead ringer for Steve Perry\, both visually and vocally. He continues to stun fans with his miraculous resemblance\, exact mannerisms and identical voice to Steve. Fans agree that Voyage delivers the closest experience to the original Steve Perry-fronted lineup. \n\nThe band also features world-class musicians\; Robby Hoffman\, Greg Smith\, Lance Millard and Dana Spellman\, who along with Hugo have brought the show to critical acclaim through the many sold-out shows as well as private and corporate events throughout America. \n\nVoyage takes you back to the '80s era when the timeless music of Journey ruled the airwaves. The talent of these five guys together has brought the meaning of Tribute to a whole new level. See it to believe it!
X-ALT-DESC;FMTTYPE=text/html:<p><strong>Tickets are $30+fees</strong></p>\n\n<p><em>Children 12 and under do not require a ticket and are free to attend.</em></p>\n\n<p>Voyage has been hailed by fans and critics alike as the #1 Journey tribute band in the world\, performing Journey&#39\;s&nbsp\;music with chilling accuracy!&nbsp\;Since 2005\, Voyage has dominated America with&nbsp\;more sold-out shows than any other tribute.&nbsp\;</p>\n\n<p>Singer Hugo\, is an absolute dead ringer for Steve Perry\, both visually and vocally. He continues to stun fans with his miraculous resemblance\, exact mannerisms and identical voice to Steve. Fans agree that Voyage delivers the closest experience to the original Steve Perry-fronted lineup.&nbsp\;</p>\n\n<p>The band also features world-class musicians\; Robby Hoffman\, Greg Smith\, Lance Millard and Dana Spellman\, who along with Hugo have brought the show to critical acclaim through the many sold-out shows as well as&nbsp\;private and corporate events throughout America.&nbsp\;</p>\n\n<p>Voyage takes you back to the &#39\;80s era when the timeless music of Journey ruled the airwaves. The talent of these five guys together has brought the meaning of Tribute to a whole new level. See it to believe it!</p>\n
LOCATION:Freeman Performing Arts 31806 Lakeview Drive Selbyville\, DE 19975
UID:e.2126.29307
SEQUENCE:3
DTSTAMP:20260420T164112Z
URL:https://business.bethany-fenwick.org/events/details/voyage-celebrating-the-music-of-journey-at-freeman-performing-arts-29307
END:VEVENT

END:VCALENDAR
