BEGIN:VCALENDAR
VERSION:2.0
PRODID:-//ChamberMaster//Event Calendar 2.0//EN
METHOD:PUBLISH
X-PUBLISHED-TTL:P3D
REFRESH-INTERVAL:P3D
CALSCALE:GREGORIAN
BEGIN:VEVENT
DTSTART:20250531T153000Z
DTEND:20250531T233000Z
X-MICROSOFT-CDO-ALLDAYEVENT:FALSE
SUMMARY:Water Taxi to Paradise Grill (from Ocean View Marina)
DESCRIPTION:Back Bay Tours is offering round trip water taxi departing from Ocean View Marina (1 Elliott Avenue in Ocean View\, DE) to Paradise Grill Restaurant in Long Neck\, DE).\n\n\n\nTrip is approximately 30 minutes each way. Departures are hourly starting at 11:30am and the return trips are hourly ending at 7:30pm.\n\n\n\nEnjoy a boat ride from Ocean View\, DE to Paradise Grill in Long Neck. Spend a few hours and enjoy food and drinks at this casual waterfront restaurant with a fun outdoor atmosphere. Trips depart hourly on the half hour from Ocean View Marina and return hourly on the hour from Paradise.\n\n\n\nCost is $45 per person\, round trip.
X-ALT-DESC;FMTTYPE=text/html:<div>\n<div>\n<div><span style="font-family:arial\;">Back Bay Tours is offering round trip water taxi departing from Ocean View Marina (1 Elliott Avenue in Ocean View\, DE) to Paradise Grill Restaurant in Long Neck\, DE).<br />\n<br />\nTrip is approximately 30 minutes each way. Departures are hourly starting at 11:30am and the return trips are hourly ending at 7:30pm.</span><br />\n<br />\nEnjoy a boat ride from Ocean View\, DE to Paradise Grill in Long Neck. Spend a few hours and enjoy food and drinks at this casual waterfront restaurant with a fun outdoor atmosphere. Trips depart hourly on the half hour from Ocean View Marina and return hourly on the hour from Paradise.<br />\n<br />\n<strong>Cost is $45 per person\, round trip.</strong></div>\n</div>\n</div>\n
LOCATION:
UID:e.2126.37925
SEQUENCE:3
DTSTAMP:20260422T133800Z
URL:https://business.bethany-fenwick.org/events/details/water-taxi-to-paradise-grill-from-ocean-view-marina-05-31-2025-37925
END:VEVENT

END:VCALENDAR
