BEGIN:VCALENDAR
VERSION:2.0
PRODID:-//ChamberMaster//Event Calendar 2.0//EN
METHOD:PUBLISH
X-PUBLISHED-TTL:P3D
REFRESH-INTERVAL:P3D
CALSCALE:GREGORIAN
BEGIN:VEVENT
DTSTART:20250509T150000Z
DTEND:20250509T160000Z
X-MICROSOFT-CDO-ALLDAYEVENT:FALSE
SUMMARY:Whelk Shell Decoupage Workshop at Inland Bays Garden Center
DESCRIPTION:In this workshop\, you will decoupage a whelk shell and edge it with gold leaf paint. You will have your choice of designs for your shell using decorative napkins. Decoupage is the art of gluing paper designs onto an object\, and the finished product looks hand-painted.\n\nAll supplies and materials will be provided. Some experience with decoupage is helpful for this workshop (but not necessary).\n\nAttendees will receive 20% off plants the day of class.
X-ALT-DESC;FMTTYPE=text/html:<p>In this workshop\, you will decoupage a whelk shell and edge it with gold leaf paint. You will have your choice of designs for your shell using decorative napkins. Decoupage is the art of gluing paper designs onto an object\, and the finished product looks hand-painted.</p>\n\n<p>All supplies and materials will be provided. Some experience with decoupage is helpful for this workshop (but not necessary).</p>\n\n<p>Attendees will receive 20% off plants the day of class.</p>\n
LOCATION:
UID:e.2126.38231
SEQUENCE:3
DTSTAMP:20260422T131020Z
URL:https://business.bethany-fenwick.org/events/details/whelk-shell-decoupage-workshop-at-inland-bays-garden-center-38231
END:VEVENT

END:VCALENDAR
