BEGIN:VCALENDAR
VERSION:2.0
PRODID:-//ChamberMaster//Event Calendar 2.0//EN
METHOD:PUBLISH
X-PUBLISHED-TTL:P3D
REFRESH-INTERVAL:P3D
CALSCALE:GREGORIAN
BEGIN:VEVENT
DTSTART:20250520T140000Z
DTEND:20250520T160000Z
X-MICROSOFT-CDO-ALLDAYEVENT:FALSE
SUMMARY:World Bee Day
DESCRIPTION:Celebrate World Bee Day with Patrick Carey\, Master Beekeeper\, owner of Carey Apiary and Farm in Frankford\, Delaware at Inland Bays Garden Center. For centuries\, bees\, among the hardest working creatures on the planet\, have benefited people\, plants and the environment. Take a peek at an observation hive and delve into the fascinating hierarchy life in the hive. You'll find out why these little honey bees are experts in pollination. Patrick will have models and components of beekeeping\, which might inspire you to start your own hive.\n\nGet acquainted with ReWild DELMARVA - supports pollinators and wildlife to native plants and ecological landscaping practices\, based on being in relationship with each other and nature.\n\nParticipants in this workshop will receive 20% on any plants they purchase on May 20th.
X-ALT-DESC;FMTTYPE=text/html:<p>Celebrate World Bee Day with Patrick Carey\, Master Beekeeper\, owner of Carey Apiary and Farm in Frankford\, Delaware at Inland Bays Garden Center.&nbsp\;For centuries\, bees\, among the hardest working creatures on the planet\, have benefited people\, plants and the environment.&nbsp\;Take a peek at an observation hive and delve into the fascinating hierarchy life in the hive. You&rsquo\;ll find out why these little honey bees are experts in pollination. Patrick will have models and components of beekeeping\, which might inspire you to start your own hive.</p>\n\n<p>Get acquainted with ReWild DELMARVA - supports pollinators and wildlife to native plants and ecological landscaping practices\, based on being in relationship with each other and nature.</p>\n\n<p>Participants in this workshop will receive 20% on any plants they purchase on May 20th.</p>\n
LOCATION:
UID:e.2126.38234
SEQUENCE:3
DTSTAMP:20260422T142818Z
URL:https://business.bethany-fenwick.org/events/details/world-bee-day-38234
END:VEVENT

END:VCALENDAR
