BEGIN:VCALENDAR
VERSION:2.0
PRODID:-//ChamberMaster//Event Calendar 2.0//EN
METHOD:PUBLISH
X-PUBLISHED-TTL:P3D
REFRESH-INTERVAL:P3D
CALSCALE:GREGORIAN
BEGIN:VEVENT
DTSTART:20240714T170000Z
DTEND:20240714T190000Z
X-MICROSOFT-CDO-ALLDAYEVENT:FALSE
SUMMARY:Writers Group at Art League of OC
DESCRIPTION:Join us for a monthly meetup with fellow writers in a casual\, creative setting. Take turns sharing your writing (poetry or short prose) and receive feedback from your peers. Writers of all levels are welcome to attend!\n\nA prompt is offered each month to spark your creativity and inspire your writing. This month's prompt is: surprises.\n\nPlease bring your creative writing (poetry or short prose) along with approx 5 copies for the group to read along with. The Arts Center may make additional copies as needed\, but writings must be single-sided and without staples.\n\nClick here to register. Walk in's also welcome.
X-ALT-DESC;FMTTYPE=text/html:<p>Join us for a monthly meetup with fellow writers in a casual\, creative setting. Take turns sharing your writing (poetry or short prose) and receive feedback from your peers. Writers of all levels are welcome to attend!</p>\n\n<p>A prompt is offered each month to spark your creativity and inspire your writing. This month&rsquo\;s prompt is:&nbsp\;<strong>s</strong><strong>urprises.</strong></p>\n\n<p>Please bring your creative writing (poetry or short prose) along with approx 5 copies for the group to read along with. The Arts Center may make additional copies as needed\, but writings must be single-sided and without staples.</p>\n\n<p><span style="color:rgb(0\, 0\, 255)"><a href="https://canvas.artleagueofoceancity.org/classes/1833">Click here to register.</a></span>&nbsp\;Walk in&rsquo\;s also welcome.</p>\n
LOCATION:Join us for a monthly meetup with fellow writers in a casual\, creative setting. Take turns sharing your writing (poetry or short prose) and receive feedback from your peers. Writers of all levels are welcome to attend! A prompt is offered each month to spark your creativity and inspire your writing. This month's prompt is: surprises. Please bring your creative writing (poetry or short prose) along with approximately 5 copies for the group to read along with. The Arts Center may make additional copies as needed\, but writings must be single-sided and without staples.
UID:e.2126.30358
SEQUENCE:3
DTSTAMP:20260420T133345Z
URL:https://business.bethany-fenwick.org/events/details/writers-group-at-art-league-of-oc-30358
END:VEVENT

END:VCALENDAR
