BEGIN:VCALENDAR
VERSION:2.0
PRODID:-//ChamberMaster//Event Calendar 2.0//EN
METHOD:PUBLISH
X-PUBLISHED-TTL:P3D
REFRESH-INTERVAL:P3D
CALSCALE:GREGORIAN
BEGIN:VEVENT
DTSTART:20220211T170000Z
DTEND:20220213T010000Z
X-MICROSOFT-CDO-ALLDAYEVENT:FALSE
SUMMARY:Fire & Ice Festival - Rock 'n' Roll - Town of Ocean View Happenings
DESCRIPTION:The Town of Ocean View is hosting a number of fun festival activities throughout the entire weekend. Take a trip to visit the beautiful John West Park in Ocean View\, located at 32 West Ave\, Ocean View\, DE 19970\, for even more sculptures and activities!\n\n\n\nFriday\, January 28th\n\nWinter Blow-up Maze - 12:00 - 8:00 PM\n\nExplore the Winter Blow-up Maze that can be found in John West Park from day until Dark.\n\n\n\nBeach Liquors Beer Garden - 12:00 - 8:00 PM \n\nThat's right\, come warm up with some festive cheer! Salted Vines Vineyard will be onsite pouring wine from 2:00 pm - 7:00 pm. The Beer Garden is benefiting Santa's Letters. For more information on the Beer Garden\, please click here. \n\n\n\nLive Ice Demonstration 5:00 - 7:00 pm \n\nThere will be a Live Ice Demonstration at 5:00 PM at the Gazebo sponsored by The Town of Ocean View. Watch as 8 Blocks of ice are transformed into a detailed sculpture.\n\n\n\nIce Tour 5:00 - 9:00 PM\n\nCheck out all the sculptures in town by taking an Ice Tour! Pick up a festival map at 5:00 PM at the Information Tent to make sure you see them all! Watch as the ice sculptures are unveiled and illuminated with lights as the sun sets! For more information\, please click here.\n\n\n\nTasting Tour\n\nThe Tasting Tour kicks off with participating restaurants in the Quiet Resorts offering their signature Fire & Ice Rock n' Roll themed cocktail. To purchase tickets\, please click here. The Fire and Ice Tasting Tour will continue throughout Saturday and Sunday at participating businesses.\n\n\n\nSaturday\, January 29th\n\nBeach Liquors Beer Garden - 12:00 - 8:00 PM \n\nThat's right\, come warm up with some festive cheer! Dewey Beer Company will be onsite for beer tastings from 1:00 pm - 3:00 pm. The Beer Garden is benefiting Santa's Letters. For more information on the Beer Garden\, please click here. \n\n\n\nWinter Blow-up Maze - 12:00 - 8:00 PM \n\nExplore the Winter Blow-up Maze that can be found in John West Park from day until Dark.\n\n\n\nLive Performance from The Funsters - 12:00 - 2:00 PM\n\n\n\nLive Performance from Southern Delaware School of the Arts Show Choir - 3:00 PM\n\nCome rock out with some live music from the Southern Delaware School of the Arts Show Choir! \n\n\n\nFor more information on Fire & Ice click here to check out our event webpage!
X-ALT-DESC;FMTTYPE=text/html:<span style="font-size:14px\;"><span style="font-family:arial\;">The Town of Ocean View is hosting a number of fun festival activities throughout the entire weekend. Take a trip to visit the beautiful John West Park in Ocean View\, located at 32 West Ave\, Ocean View\, DE 19970\, for even more sculptures and activities!</span></span><br />\n<br />\n<span style="font-family:arial\;"><span style="font-size:18px\;"><span style="color:#0000FF\;">Friday\, January 28th</span></span></span><br />\n<span style="color: rgb(0\, 0\, 255)\; font-family: arial\; font-size: 16px\;">Winter Blow-up Maze - 12:00 - 8:00 PM</span><br />\n<span style="font-size: 14px\;"><span style="font-family: arial\;">Explore the Winter Blow-up Maze that can be found in John West Park from day until Dark.</span></span><br />\n<br />\n<span style="color: rgb(0\, 0\, 255)\; font-family: arial\; font-size: 16px\;">Beach Liquors Beer Garden - 12:00 - 8:00 PM&nbsp\;</span><br />\n<span style="font-size:14px\;"><span style="font-family:arial\;">That&#39\;s right\, come warm up with some festive cheer! Salted Vines Vineyard will be onsite pouring wine from 2:00 pm - 7:00 pm. The&nbsp\;</span></span><span style="font-family: arial\; font-size: 14px\;">Beer Garden is benefiting Santa&#39\;s Letters.&nbsp\;</span><span style="font-family: arial\; font-size: 14px\;">For more information on the Beer Garden\, please click</span><span style="font-size:14px\;"><span style="font-family:arial\;">&nbsp\;<a href="https://business.bethany-fenwick.org/events/details/fire-ice-festival-rock-n-roll-town-of-ocean-view-john-west-park-beer-garden-23443" target="_blank">here</a>.&nbsp\;</span></span><br />\n<br />\n<span style="font-family:arial\;"><span style="font-size:18px\;"><span style="color:#0000FF\;"><span style="font-size:16px\;">Live Ice Demonstration 5:00 - 7:00 pm&nbsp\;</span></span></span></span><br />\n<span style="font-family: &quot\;Helvetica Neue&quot\;\, Helvetica\, Arial\, sans-serif\; font-size: 15px\;"><span style="font-size:14px\;"><span style="font-family:arial\;">There will be a Live Ice Demonstration at 5:00 PM at the Gazebo sponsored by The Town of Ocean View. Watch as 8 Blocks of ice are transformed into a detailed sculpture.</span></span></span><br />\n<br />\n<span style="color: rgb(0\, 0\, 255)\; font-family: arial\; font-size: 16px\;">Ice Tour 5:00 - 9:00 PM</span><br />\n<span style="font-family: &quot\;Helvetica Neue&quot\;\, Helvetica\, Arial\, sans-serif\; font-size: 15px\;"><span style="font-size:14px\;"><span style="font-family:arial\;">Check out all the sculptures in town by taking an Ice Tour! Pick up a festival map at 5:00 PM at the Information Tent to make sure you see them all! Watch as the ice sculptures are unveiled and illuminated with lights as the sun sets! For more information\, please <a href="https://business.bethany-fenwick.org/events/details/fire-ice-festival-rock-n-roll-town-of-ocean-view-sculpture-walking-tour-23442" target="_blank">click here</a>.</span></span></span><br />\n<br />\n<span style="color: rgb(0\, 0\, 255)\; font-family: arial\; font-size: 16px\;">Tasting Tour</span><br />\n<span style="font-size:14px\;"><span style="font-family:arial\;">The Tasting Tour kicks off with participating restaurants in the Quiet Resorts offering their signature Fire &amp\; Ice Rock n&#39\; Roll themed cocktail. To purchase tickets\, please <a href="https://business.bethany-fenwick.org/events/details/fire-ice-rock-n-roll-tasting-tour-23121" target="_blank">click here</a>.&nbsp\;</span></span><span style="font-family: &quot\;Helvetica Neue&quot\;\, Helvetica\, Arial\, sans-serif\; font-size: 14px\;">The Fire and Ice Tasting Tour will continue throughout Saturday and Sunday at participating businesses.</span><br />\n<br />\n<span style="font-size:14px\;"><span style="font-family:arial\;"><span style="font-size:18px\;"><span style="color:#0000FF\;">Saturday\, January 29th</span></span></span></span><br />\n<span style="color: rgb(0\, 0\, 255)\; font-family: arial\; font-size: 16px\;">Beach Liquors Beer Garden - 12:00 - 8:00 PM&nbsp\;</span><br />\n<span style="font-size: 14px\;"><span style="font-family: arial\;">That&#39\;s right\, come warm up with some festive cheer! Dewey Beer Company will be onsite for beer tastings from 1:00 pm - 3:00 pm. The&nbsp\;</span></span><span style="font-family: arial\; font-size: 14px\;">Beer Garden is benefiting Santa&#39\;s Letters.&nbsp\;</span><span style="font-size: 14px\;"><span style="font-family: arial\;">For more information on the Beer Garden\, please click&nbsp\;<a href="https://business.bethany-fenwick.org/events/details/fire-ice-festival-rock-n-roll-town-of-ocean-view-john-west-park-beer-garden-23443" target="_blank">here</a>.&nbsp\;</span></span><br />\n<br />\n<span style="color: rgb(0\, 0\, 255)\; font-family: arial\; font-size: 16px\;">Winter Blow-up Maze - 12:00 - 8:00 PM&nbsp\;</span><br />\n<span style="font-size: 14px\;"><span style="font-family: arial\;">Explore the Winter Blow-up Maze that can be found in John West Park from day until Dark.</span></span><br />\n<br style="color: rgb(51\, 51\, 51)\; font-family: sans-serif\, Arial\, Verdana\, &quot\;Trebuchet MS&quot\;\; font-size: 13px\;" />\n<span style="color: rgb(51\, 51\, 51)\; font-family: sans-serif\, Arial\, Verdana\, &quot\;Trebuchet MS&quot\;\; font-size: 16px\;"><span style="color: rgb(0\, 0\, 255)\;">Live Performance from The Funsters - 12:00 - 2:00 PM</span></span><br />\n<br />\n<span style="font-size:16px\;"><span style="color:#0000FF\;">Live Performance from Southern Delaware School of the Arts Show Choir - 3:00 PM</span></span><br />\n<span style="font-size:14px\;">Come rock out with some live music from the Southern Delaware School of the Arts Show Choir!&nbsp\;</span><br />\n<br />\n<span style="font-size:14px\;"><span style="font-family:arial\;">For more information on Fire &amp\; Ice click <a href="https://fireandicede.com/">here</a> to check out our event webpage!&nbsp\;</span></span>
LOCATION:John West Park 32 West Avenue Ocean View\, DE 19970
UID:e.2126.23124
SEQUENCE:3
DTSTAMP:20260424T074841Z
URL:https://business.bethany-fenwick.org/events/details/fire-ice-festival-rock-n-roll-town-of-ocean-view-happenings-23124
END:VEVENT

END:VCALENDAR
